BEGIN:VCALENDAR
VERSION:2.0
PRODID:-//MOB Moms - ECPv6.15.1.1//NONSGML v1.0//EN
CALSCALE:GREGORIAN
METHOD:PUBLISH
X-WR-CALNAME:MOB Moms
X-ORIGINAL-URL:https://themobmom.com
X-WR-CALDESC:Events for MOB Moms
REFRESH-INTERVAL;VALUE=DURATION:PT1H
X-Robots-Tag:noindex
X-PUBLISHED-TTL:PT1H
BEGIN:VTIMEZONE
TZID:UTC
BEGIN:STANDARD
TZOFFSETFROM:+0000
TZOFFSETTO:+0000
TZNAME:UTC
DTSTART:20250101T000000
END:STANDARD
END:VTIMEZONE
BEGIN:VEVENT
DTSTART;VALUE=DATE:20250731
DTEND;VALUE=DATE:20250801
DTSTAMP:20260424T024435
CREATED:20250724T185030Z
LAST-MODIFIED:20250724T185030Z
UID:12207-1753920000-1754006399@themobmom.com
SUMMARY:Free Family Beach Movies
DESCRIPTION:Our very popular Free Family Movie Nights are once again sponsored by our friends at Greer’s Markets and kick off on May 22 featuring Madagascar. Movies are held at East End Beach and begin at dusk (weather permitting). Bring beach chairs\, blankets and bug spray (just in case). The remaining summer line up is \, June 26- Despicable Me\, June 27- Princess and the Frog\, July 3- Jaws\, July 5- Jaws\, July 10- Lilo & Stitch\, July 11- The Little Mermaid\, July 24- Shark Tale\, July 25- Finding Nemo\, July 31- Moana\, August 1- Lyle\, Lyle\, Crocodile\, August 7-Dr. Dolittle\, August 8- Yes Day. Great family fun!
URL:https://themobmom.com/event/free-family-beach-movies-3/
LOCATION:East End Beach\, Dauphin Island
ATTACH;FMTTYPE=image/jpeg:https://themobmom.com/wp-content/uploads/2025/05/DI-movie-night.jpg
END:VEVENT
BEGIN:VEVENT
DTSTART;VALUE=DATE:20250731
DTEND;VALUE=DATE:20250801
DTSTAMP:20260424T024435
CREATED:20250724T185216Z
LAST-MODIFIED:20250724T185216Z
UID:12209-1753920000-1754006399@themobmom.com
SUMMARY:Market In Green Park
DESCRIPTION:Stop by Green Park every Thursday from 9am-5pm and every second Saturday from 9am-3pm to see what the island has to offer! This event provides an outlet for local farmers\, crafters\, and island businesses to promote their products\, rentals\, services\, and more. If you would like to be part of the market please email mgodwin@townofdauphinisland.org.
URL:https://themobmom.com/event/market-in-green-park-2/
LOCATION:Green Park Dauphin Island
END:VEVENT
BEGIN:VEVENT
DTSTART;TZID=UTC:20250731T170000
DTEND;TZID=UTC:20250731T210000
DTSTAMP:20260424T024435
CREATED:20250711T153008Z
LAST-MODIFIED:20250711T153008Z
UID:12117-1753981200-1753995600@themobmom.com
SUMMARY:Beats Bash
DESCRIPTION:Turn up the fun every Thursday night with Beats Bash\, part of the Summer Series in Downtown OWA! From interactive music games and DIY crafts to live drum circles and Disco Dome parties\, there’s something to spark every kid’s imagination.\nCatch music-themed activities at the Splashpad\, creative kids’ zones at the Flowerbed\, and jam along with a percussionist-led drum circle at the Fountain. Whether you’re a dancer\, dreamer\, or drum enthusiast\, Beats Bash brings the beat for the whole family — only at Downtown OWA.
URL:https://themobmom.com/event/beats-bash-3/
LOCATION:Downtown OWA
ATTACH;FMTTYPE=image/jpeg:https://themobmom.com/wp-content/uploads/2025/07/499413683_1005628001754543_6940632376104975427_n.jpg
END:VEVENT
BEGIN:VEVENT
DTSTART;TZID=UTC:20250731T170000
DTEND;TZID=UTC:20250802T230000
DTSTAMP:20260424T024435
CREATED:20250709T171628Z
LAST-MODIFIED:20250709T171628Z
UID:12065-1753981200-1754175600@themobmom.com
SUMMARY:27th Annual JCMF Professional Rodeo
DESCRIPTION:Get ready for an unforgettable experience at the 27th Annual Professional Rodeo\, hosted by the Jennifer Claire Moore Foundation! This year\, we’re bringing you an action-packed\, family-friendly event filled with entertainment for all ages.\nGet ready for fun for all ages at our Kid’s Corral\, happening before the rodeo action kicks off! Stick around for the rodeo\, and let your kids join in on the excitement with the calf scramble (for ages 6-12)! With more seating\, delicious concessions\, exciting vendors\, and plenty of activities\, there’s something for everyone.\nWith the arena being covered\, this is a rain or shine event. It’s an experience you won’t want to miss!\nOur rodeo features livestock and event management from Bo Campbell Rodeo Productions\, and contestants are affiliated with the Professional Cowboy Association\, ensuring a high-energy\, jaw-dropping experience that you won’t want to miss. But that’s not all! We’re also bringing in a Professional Rodeo Clown to keep the crowd laughing with hilarious antics. With a perfect mix of humor for both kids and adults\, the rodeo clown ensures there’s never a dull moment!\nWe’ve made sure to include plenty of specialty acts geared toward children\, so the whole family can enjoy the day together. Whether you’re a rodeo enthusiast or new to the sport\, our event promises memories to last a lifetime!\nCome for the excitement\, stay for the fun\, and make the 27th Annual Professional Rodeo a day to remember!\n\nGates Open: 5:00pmKid’s Corral: 5:00pmRodeo Action: 7:30pm\n\nAdults (13+): $18Children (3-12): $15Children 2 & Under: FREETickets will be available for purchase online or at the gate (cash & card accepted).Use code BEKIND2025 for $1 off individual tickets until July 26th.Thursday Night is a night for our Hometown Heroes! Military and First Responders get in FREE with a valid ID.
URL:https://themobmom.com/event/27th-annual-jcmf-professional-rodeo/
LOCATION:Baldwin County Coliseum
ATTACH;FMTTYPE=image/jpeg:https://themobmom.com/wp-content/uploads/2025/07/490737632_969705478647153_1810073432411292546_n.jpg
END:VEVENT
BEGIN:VEVENT
DTSTART;TZID=UTC:20250731T180000
DTEND;TZID=UTC:20250731T210000
DTSTAMP:20260424T024435
CREATED:20250711T153854Z
LAST-MODIFIED:20250711T153854Z
UID:12121-1753984800-1753995600@themobmom.com
SUMMARY:S'mores on the Shore
DESCRIPTION:Campfires\, music\, s’mores\, and so much more will be the scene as the City of Gulf Shores hosts S’mores on the Shore on Thursday\, July 31. The fun is set to begin at 6 p.m. and will take place at the Gulf Place Town Green\, located at 101 Gulf Shores Parkway.\nThis family-friendly event will feature free items and activities\, including s’mores packets\, a live DJ\, a balloon artist\, and face painting. Our friends from the Lions Club will be selling hot dogs\, chips\, and drinks. The Gulf Shores City Store and Gulf Shores Public Library will be present at the event along with some of our other friends from the Alabama Gulf Coast Zoo and Bama Beach Buggies! Families are encouraged to bring their blankets\, chairs\, and friends and relax on the beautiful white sand of the Gulf Shores Public Beach.\n“2010 marked the inaugural S’mores on the Shore event\, which has quickly become one of our most popular events among residents and guests\,” said Brigette Reynolds\, Special Events Manager. “I am also especially proud to have been the one to foster this event! We are thrilled to bring free fun and excitement to our community\, and we can’t wait to see you there!”
URL:https://themobmom.com/event/smores-on-the-shore-2/
LOCATION:Gulf Shores Public Beach (West End)
ATTACH;FMTTYPE=image/jpeg:https://themobmom.com/wp-content/uploads/2025/07/514063131_1133135615500033_3513475360027299890_n.jpg
END:VEVENT
BEGIN:VEVENT
DTSTART;TZID=UTC:20250731T183000
DTEND;TZID=UTC:20250802T140000
DTSTAMP:20260424T024435
CREATED:20250709T162950Z
LAST-MODIFIED:20250709T162950Z
UID:12052-1753986600-1754143200@themobmom.com
SUMMARY:Summer Jam 2025
DESCRIPTION:Join us for Summer Jam 2025!\nJuly 31st & August 1st\n6:30 – 7:30 PM (Doors open @ 6:00 PM)\nAugust 2nd (FAMILY FUN DAY)\n10:00 AM – 2:00 PM\nThis is going to be an AWESOME three day event for your kids to have lots of fun and grow in their faith!\nThere are two nights of exciting services\, followed by an outdoor day of fun for the ENTIRE family\, with free food\, inflatables\, and much more!\nWe will also be distributing free school supplies during our family fun day!\nFor more information\, and to register for this FREE event\, please visit\nhttps://loxleychurch.cc/pages/summer-jam-2025
URL:https://themobmom.com/event/summer-jam-2025/
LOCATION:Loxley Church\, 5220 S Hickory St\, Loxley\, Alabama
ATTACH;FMTTYPE=image/jpeg:https://themobmom.com/wp-content/uploads/2025/07/515508568_1121822583325394_2766374032584709482_n.jpg
END:VEVENT
END:VCALENDAR