BEGIN:VCALENDAR
VERSION:2.0
PRODID:-//MOB Moms - ECPv6.15.1.1//NONSGML v1.0//EN
CALSCALE:GREGORIAN
METHOD:PUBLISH
X-WR-CALNAME:MOB Moms
X-ORIGINAL-URL:https://themobmom.com
X-WR-CALDESC:Events for MOB Moms
REFRESH-INTERVAL;VALUE=DURATION:PT1H
X-Robots-Tag:noindex
X-PUBLISHED-TTL:PT1H
BEGIN:VTIMEZONE
TZID:UTC
BEGIN:STANDARD
TZOFFSETFROM:+0000
TZOFFSETTO:+0000
TZNAME:UTC
DTSTART:20250101T000000
END:STANDARD
END:VTIMEZONE
BEGIN:VEVENT
DTSTART;TZID=UTC:20250729T110000
DTEND;TZID=UTC:20250729T130000
DTSTAMP:20260424T024437
CREATED:20250711T143059Z
LAST-MODIFIED:20250711T143059Z
UID:12088-1753786800-1753794000@themobmom.com
SUMMARY:Tie-Dye Party
DESCRIPTION:Brighten Your Steps—Library Sock Tie-Dye Extravaganza!\n\n\n Ready to turn your plain socks into colorful works of art? Join us for a groovy Tie-Dye Sock Party!\n\n\n We’ll provide the supplies—you bring your creativity. It’s fun\, FREE\, and fabulously bright!\n\n\n Whether you’re a sock stylist or just dipping your toes into tie-dye\, this is your chance to create wearable magic.\n\n\n Sign up using the link: https://forms.gle/1uabNMZHuGUsuyRX7\n\n\n If you’re interested in tie-dyeing another item\, we’d love for you to bring it along!
URL:https://themobmom.com/event/tie-dye-party/
LOCATION:Thomas B. Norton Public Library\, Gulf Shores\, Alabama
ATTACH;FMTTYPE=image/jpeg:https://themobmom.com/wp-content/uploads/2025/07/514601285_1149057993930319_3604625690379475940_n.jpg
END:VEVENT
BEGIN:VEVENT
DTSTART;TZID=UTC:20250729T170000
DTEND;TZID=UTC:20250729T210000
DTSTAMP:20260424T024437
CREATED:20250724T150004Z
LAST-MODIFIED:20250724T150004Z
UID:12179-1753808400-1753822800@themobmom.com
SUMMARY:Luau Party
DESCRIPTION:Say aloha to your new favorite summer tradition—the Luau Party at Downtown OWA! As part of our Summer Series\, this weekly Tuesday night celebration brings the spirit of the islands every Tuesday from May 27 through August 5\, from 5:00 PM to 9:00 PM. \nGet swept away by the sounds of live island music\, experience the grace of hula dancing\, and enjoy a festive atmosphere filled with tropical fun for all ages. Whether you’re joining the conga line or simply enjoying a sunset stroll through Downtown OWA\, this Luau Party is your Tuesday getaway right in the heart of Downtown OWA—no sunscreen required. \n\n\n\n\nSchedule of Events:\n\n\n\n\n\n5:00-8:30 pm: Tropical Crafts at the Downtown Fountain\n5:30-8:30 pm: Live Entertainment at the Splashpad/throughout Downtown OWA\n5:00-9:00 pm: Luau Activities at the Native Treasures Alcove\n5:00-9:00 pm: Tropical Photo Op at the Sweet Tooth Alcove\n5:00-9:00 pm: Lawn games throughout Downtown OWA
URL:https://themobmom.com/event/luau-party/
LOCATION:OWA Parks & Resort
ATTACH;FMTTYPE=image/jpeg:https://themobmom.com/wp-content/uploads/2025/06/OWA-Luau-party.jpg
END:VEVENT
BEGIN:VEVENT
DTSTART;TZID=UTC:20250729T190000
DTEND;TZID=UTC:20250729T200000
DTSTAMP:20260424T024437
CREATED:20250724T150208Z
LAST-MODIFIED:20250724T150208Z
UID:12181-1753815600-1753819200@themobmom.com
SUMMARY:Brandon Styles Variety Show
DESCRIPTION:A family-friendly\, impression\, comedy and magic show! Discover the many faces of Brandon Styles in this year-round Variety Show. Impressions from Frank Sinatra to Justin Bieber\, with 60 additional impressions in between! Sprinkled with just the right amount of comedy and magic to make this a great entertainment hour for all ages. Brandon Styles LIVE at OWA is a classy show that has something for the whole family! Brandon will awe you during his live performance of nearly 60 different celebrity singing & speaking impressions. To make this show unlike any other in the world\, he has incorporated the perfect amount of comedy\, magic\, dancing\, ventriloquism and audience participation in this fast-paced 60 minute show!
URL:https://themobmom.com/event/brandon-styles-variety-show-10/
LOCATION:OWA Parks & Resort
END:VEVENT
END:VCALENDAR