BEGIN:VCALENDAR
VERSION:2.0
PRODID:-//MOB Moms - ECPv6.15.1.1//NONSGML v1.0//EN
CALSCALE:GREGORIAN
METHOD:PUBLISH
X-WR-CALNAME:MOB Moms
X-ORIGINAL-URL:https://themobmom.com
X-WR-CALDESC:Events for MOB Moms
REFRESH-INTERVAL;VALUE=DURATION:PT1H
X-Robots-Tag:noindex
X-PUBLISHED-TTL:PT1H
BEGIN:VTIMEZONE
TZID:UTC
BEGIN:STANDARD
TZOFFSETFROM:+0000
TZOFFSETTO:+0000
TZNAME:UTC
DTSTART:20250101T000000
END:STANDARD
END:VTIMEZONE
BEGIN:VEVENT
DTSTART;TZID=UTC:20250602T090000
DTEND;TZID=UTC:20250728T150000
DTSTAMP:20260424T040759
CREATED:20250522T144538Z
LAST-MODIFIED:20250522T144538Z
UID:11252-1748854800-1753714800@themobmom.com
SUMMARY:Two Dolla Mondays
DESCRIPTION:Every Monday from 9am to 3pm enjoy $2 Bowling Games (price is per person / per game) and $2 shoes!\nWe are thinking Mondays should be deemed family day at Eastern Shore Lanes!\nFirst Come First Serve – No reservations
URL:https://themobmom.com/event/two-dolla-mondays/
LOCATION:Eastern Shore Lanes
ATTACH;FMTTYPE=image/jpeg:https://themobmom.com/wp-content/uploads/2025/05/497669524_1237671361702376_1685324287553650333_n.jpg
END:VEVENT
BEGIN:VEVENT
DTSTART;TZID=UTC:20250725T143000
DTEND;TZID=UTC:20250727T153000
DTSTAMP:20260424T040759
CREATED:20250711T150037Z
LAST-MODIFIED:20250711T150037Z
UID:12099-1753453800-1753630200@themobmom.com
SUMMARY:South Baldwin Community Theatre Presents Disney's Mary Poppins Jr
DESCRIPTION:Things are not going well for the Banks family\, the children are out of control and are in need of a new nanny. When a mysterious young woman named Mary Poppins appears at their doorstep\, the family finds that she’s the answer to their prayers\, but in the most peculiar way. \nJuly 25 to August 3\, Friday\, Saturday\, Sunday showtimes. \nTickets $15-$25
URL:https://themobmom.com/event/south-baldwin-community-theatre-presents-disneys-mary-poppins-jr/
LOCATION:South Baldwin Community Theatre\, Gulf Shores\, Alabama
ATTACH;FMTTYPE=image/png:https://themobmom.com/wp-content/uploads/2025/07/132882_event_md_43.png
END:VEVENT
BEGIN:VEVENT
DTSTART;VALUE=DATE:20250726
DTEND;VALUE=DATE:20250727
DTSTAMP:20260424T040759
CREATED:20250721T020414Z
LAST-MODIFIED:20250721T020414Z
UID:12148-1753488000-1753574399@themobmom.com
SUMMARY:Rural King Farmers Market & Sidewalk Sale
DESCRIPTION:Support Local. Shop Fresh. Save Big.\nJoin us at your local Rural King on Saturday\, July 26th\, from 8 AM – 12 PM for our Farmers Market\, featuring homemade\, homegrown\, and all-local goods from vendors in our community!\nWhat to Expect: Local produce\, handmade goods\, baked treats & more A chance to support your neighbors and discover new favorites Our Sidewalk Sale happening at the same time — with extreme deals on apparel\, outdoor living\, pools\, and more!\n Interested in becoming a vendor?Stop by the Customer Service Desk at your local Rural King to sign up. Deadline to register is Thursday\, July 18th — all local makers\, bakers\, and growers welcome!\nMark your calendar\, bring the whole family\, and let’s make it a morning to remember
URL:https://themobmom.com/event/rural-king-farmers-market-sidewalk-sale/
LOCATION:951 US-43\, Saraland Al
ATTACH;FMTTYPE=image/jpeg:https://themobmom.com/wp-content/uploads/2025/07/farmers-market.jpg
END:VEVENT
BEGIN:VEVENT
DTSTART;VALUE=DATE:20250726
DTEND;VALUE=DATE:20250727
DTSTAMP:20260424T040759
CREATED:20250724T151100Z
LAST-MODIFIED:20250724T151100Z
UID:12186-1753488000-1753574399@themobmom.com
SUMMARY:SWMCC Annual Kid's Day
DESCRIPTION:Ahoy Mateys! Set Sail for the SouthWest Mobile County Chamber of Commerce’s 12th Annual Kids Day!\nThis pirate-themed event is scheduled for Saturday\, July 26th from 9:00 am to 1:00 pm at the Tillman’s Corner Community Center (5055 Carol Plantation Rd\, Mobile\, AL 36619). The Chamber hosts this event in order to prepare local children for the upcoming school year by providing free backpacks with school supplies and uniforms. It will also feature snow cone and ice cream trucks\, vendors\, bouncy houses\, games\, a Beach Ball Drop at 12:00 pm and more!\nWe are accepting sponsorship applications up until July 3rd and vendor applications until July 11th. Our indoor booths are reserved for medical entities offering healthcare for children in attendance. Please watch out for scams\, all vendor registrations are completed through the Chamber Office. If you are unable to have a booth or sponsor the event but would like to help\, we are in need of donations of school supplies and cases of bottled water. All donations can be turned in at the Chamber Office (5055 Carol Plantation Rd\, Mobile\, AL 36619). Please contact the Chamber Office by email at info@swmcchamber.com or phone at (251) 666-2846 for more information or to request a list of the specific school supplies that are needed.
URL:https://themobmom.com/event/swmcc-annual-kids-day/
LOCATION:5055 Carol Plantation Road\, 5055 Carol Plantation Road\, Mobile\, AL\, 36619\, United States
ATTACH;FMTTYPE=image/jpeg:https://themobmom.com/wp-content/uploads/2025/07/kids-day.jpg
END:VEVENT
BEGIN:VEVENT
DTSTART;TZID=UTC:20250726T080000
DTEND;TZID=UTC:20250726T113000
DTSTAMP:20260424T040759
CREATED:20250709T143124Z
LAST-MODIFIED:20250709T143124Z
UID:12011-1753516800-1753529400@themobmom.com
SUMMARY:Soccer Shots Mobile Birthday Bash
DESCRIPTION:Celebrate 20 years of smiles with Soccer Shots Mobile! All Soccer Shots nation-wide are celebrating the 20th birthday of Soccer Shots and we would love for your child and family to join in on the FUN. To celebrate\, Soccer Shots Mobile will be offering FREE soccer sessions for 18 month olds – 8 year olds at Lavretta Park on July 26th from 8:00am-11:30am. We also will have FREE face painting\, coffee\, food and bevarages. Our team is excited to celebrate and we hope to see new and returning families at our Birthday Bash.
URL:https://themobmom.com/event/soccer-shots-mobile-birthday-bash/
LOCATION:Lavretta Park
ATTACH;FMTTYPE=image/jpeg:https://themobmom.com/wp-content/uploads/2025/07/507036456_707769618540131_6175785365425748165_n.jpg
END:VEVENT
BEGIN:VEVENT
DTSTART;TZID=UTC:20250726T090000
DTEND;TZID=UTC:20250726T110000
DTSTAMP:20260424T040759
CREATED:20250709T172338Z
LAST-MODIFIED:20250709T172338Z
UID:12068-1753520400-1753527600@themobmom.com
SUMMARY:Back to School Bash
DESCRIPTION:Parents\, mark your calendar for the annual Back to School Bash on Saturday\, July 26th! ALL are welcome to come enjoy fun outside with water slides\, a cook out\, visit Search & Rescue dogs\, climb on a fire truck and more. For those who need a hand\, come inside at the Life Center for free hair cuts\, clothing\, backpacks and school supplies and sports physicals.\nParent/Guardian must be present with their child in the Fairhope School system.\nThis event is made possible with help from local churches\, civic organizations\, First Responders and volunteers.
URL:https://themobmom.com/event/back-to-school-bash-7/
LOCATION:Fairhope United Methodist Church\, Fairhope\, AL\, 36532
ATTACH;FMTTYPE=image/jpeg:https://themobmom.com/wp-content/uploads/2025/07/513876347_1159365556217400_2732562604986097613_n.jpg
END:VEVENT
BEGIN:VEVENT
DTSTART;TZID=UTC:20250726T100000
DTEND;TZID=UTC:20250726T170000
DTSTAMP:20260424T040759
CREATED:20250721T021351Z
LAST-MODIFIED:20250721T021351Z
UID:12155-1753524000-1753549200@themobmom.com
SUMMARY:Christmas in July
DESCRIPTION:Join us from 10 a.m. to 5 p.m.  for a festive celebration as Wreaths Across America\, American Legion Post 250 present Christmas in July! Come and find all your favorite shops gathered in one cozy spot. We can’t wait for you to enjoy a wonderful shopping experience filled with holiday cheer! SANTA may even be making a visit to see everyone! Please reach out to Kathryn Byrd for vendor registration\, katbyrd2141@gmail.comProceeds from booth rentalwill go directly to sponsor veteran wreaths
URL:https://themobmom.com/event/christmas-in-july/
LOCATION:American Legion Post 250
ATTACH;FMTTYPE=image/jpeg:https://themobmom.com/wp-content/uploads/2025/07/Christmas-in-July.jpg
END:VEVENT
BEGIN:VEVENT
DTSTART;TZID=UTC:20250726T103000
DTEND;TZID=UTC:20250726T120000
DTSTAMP:20260424T040759
CREATED:20250724T152056Z
LAST-MODIFIED:20250724T152056Z
UID:12189-1753525800-1753531200@themobmom.com
SUMMARY:Movies Based Off Books
DESCRIPTION:Join us at 10:30 AM for a family friendly viewing of Captain Underpants!
URL:https://themobmom.com/event/movies-based-off-books/
LOCATION:Daphne Public Library\, Daphne\, Alabama\, 36526
ATTACH;FMTTYPE=image/jpeg:https://themobmom.com/wp-content/uploads/2025/07/daphne-public-library-movie.jpg
END:VEVENT
BEGIN:VEVENT
DTSTART;TZID=UTC:20250726T110000
DTEND;TZID=UTC:20250726T130000
DTSTAMP:20260424T040759
CREATED:20250721T022204Z
LAST-MODIFIED:20250721T022204Z
UID:12163-1753527600-1753534800@themobmom.com
SUMMARY:Coastie The Safety Boat at the Exploreum
DESCRIPTION:Come join us on select Saturdays at 11am\, for a special visit from the U.S. Coast Guard Auxiliary and their friend\, Coastie\, the animated robotic boat! Learn all about water safety through an interactive learning experience for the whole family.\nScheduled dates (subject to change):April 19thApril 26thJuly 12th (Shark Week)July 26th\nThis is free for Exploreum members or included in general admission for non-members. Pricing can be found here: https://www.exploreum.com/plan-your-visit/hours-admission/\n\n—\n\n\nCoastie teaches rules about what to do and not do in a water emergency situation. For instance\, Coastie teaches “Reach or Throw But Never Go In.” This message along with interaction and instruction with Coastie teaches children how to throw or reach something to a person who is in trouble in the water rather than going in to try to save him. He also teaches slogans that kids remember like “Don’t Just Pack It! Wear Your Life Jacket!” and “Always Swim With A Buddy In A Supervised Area.”\nThis program has already educated thousands of children since it was started in 1996 and interacted with children and their parents at Boat Shows\, Schools\, Parades and Hospitals all over the Columbus\, Ohio area. Coastie has visited other cities such as Marietta\, and Dayton\, Ohio\, Washington DC\, Chicago\, and St. Louis. He has even gone to Pittsburgh 1997-1998 for the Tri City Regatta and Parade.\nOne of Coastie’s most recent educational programs that has also become an annual event is the Defense Logistic Agency\, Summer Family Fun Festival Day\, in Columbus\, Ohio. The interaction is always very worthwhile at this event. The bottom line for Coastie is “Education and Saving Lives” while sharing the boating and water safety message with everyone he contacts. Coastie’s Team motto is “Saving Lives Through Education”.
URL:https://themobmom.com/event/coastie-the-safety-boat-at-the-exploreum-3/
LOCATION:Gulf Coast Exploreum Science Center
ATTACH;FMTTYPE=image/jpeg:https://themobmom.com/wp-content/uploads/2025/07/coastie-the-safety-boar.jpg
END:VEVENT
BEGIN:VEVENT
DTSTART;TZID=UTC:20250726T130000
DTEND;TZID=UTC:20250726T170000
DTSTAMP:20260424T040759
CREATED:20250721T021702Z
LAST-MODIFIED:20250721T021702Z
UID:12159-1753534800-1753549200@themobmom.com
SUMMARY:Culture Fest 2025
DESCRIPTION:Clotilda: The Exhibition at the Africatown Heritage House invites you to join us at Culture Fest 2025 for a day of jubilant celebration\, meaningful reflection\, and community! As we open a lens to the African American experience and celebrate the legacy Africatown\, we present an array of engaging activities\, enriching experiences\, and soul-stirring entertainment that provides a taste of black culture for all to enjoy.\nADMISSION IS FREE! The event will be held Saturday\, July 26th from 1:00 – 5:00pm. We will have:\nVendorsEntertainmentFood TrucksCommunity QuiltmakingSpeechesArts and CraftsDancing and Music\nWe look forward to seeing everyone at our 2nd annual Culture Fest event!
URL:https://themobmom.com/event/culture-fest-2025/
LOCATION:2465 Winbush St.\, Mobile\, AL\, United States\, Alabama 36610
ATTACH;FMTTYPE=image/jpeg:https://themobmom.com/wp-content/uploads/2025/07/Culture-Fest-2025.jpg
END:VEVENT
BEGIN:VEVENT
DTSTART;TZID=UTC:20250726T140000
DTEND;TZID=UTC:20250726T153000
DTSTAMP:20260424T040759
CREATED:20250709T155327Z
LAST-MODIFIED:20250709T155327Z
UID:12023-1753538400-1753543800@themobmom.com
SUMMARY:Mrs. Rachel Special Surprise Party
DESCRIPTION:Join us Saturday the 26th at 2:00 PM for a Mrs. Rachel party! There will be many games and activities to participate in!
URL:https://themobmom.com/event/mrs-rachel-special-surprise-party/
LOCATION:Barnes & Noble\, Spanish Fort\, AL
ATTACH;FMTTYPE=image/jpeg:https://themobmom.com/wp-content/uploads/2025/07/514256580_1285507740244375_8444884481152991817_n.jpg
END:VEVENT
BEGIN:VEVENT
DTSTART;TZID=UTC:20250726T140000
DTEND;TZID=UTC:20250726T160000
DTSTAMP:20260424T040759
CREATED:20250721T022900Z
LAST-MODIFIED:20250721T022900Z
UID:12169-1753538400-1753545600@themobmom.com
SUMMARY:The Boy Who Lived! Bash!
DESCRIPTION: Calling all young witches\, wizards\, and muggles!Join us at Books-A-Million for “The Birthday at Platform 9¾” — a magical celebration in honor of The Boy Who Lived!\n Expect spellbinding trivia\, enchanting games\, and specialty drinks straight from the wizarding world (Butterbeer\, anyone?). Costumes encouraged (We’ll be in ours!)\, house pride welcomed\, fun guaranteed!\n Saturday\, July 26\, 2025 3962 Airport Blvd\, Unit 14 Books-A-Million — Don’t miss the train!
URL:https://themobmom.com/event/the-boy-who-lived-bash/
LOCATION:Books-A-Million\, Mobile AL
ATTACH;FMTTYPE=image/jpeg:https://themobmom.com/wp-content/uploads/2025/07/boy-who-lived-bash.jpg
END:VEVENT
BEGIN:VEVENT
DTSTART;TZID=UTC:20250726T150000
DTEND;TZID=UTC:20250726T210000
DTSTAMP:20260424T040759
CREATED:20250724T145521Z
LAST-MODIFIED:20250724T145521Z
UID:12175-1753542000-1753563600@themobmom.com
SUMMARY:OWA Live Music Series
DESCRIPTION:OWA Live summer concert series is back! Join us select Saturdays this summer on the OWA Island Amphitheater for a sizzling hot lineup of FREE live music! From heart-pounding rock anthems to soulful jazz melodies\, we’ve got an incredible lineup of diverse music genres that’ll have you dancing ’til dawn. \nRemember to arrive early and grab a cold beverage to go from your favorite Downtown OWA spot! Check out the full lineup below! \nMust be 21+ to consume alcohol. Please enjoy responsibly. \n\n\n\n\nLearn more about the OWA Live Dates\n\n\n\n\n\nJuly 26\n\n3-4:30 pm: Yeah\, Probably\n5-6:30 pm: Elise Taylor\n7-9 pm: Wes Loper\n\n\nAugust 30\n\n3-4:30 pm: AVINU\n5-6:30 pm: Chitlin’ Switch\n7-9 pm: Jenna McClelland
URL:https://themobmom.com/event/owa-live-music-series/
LOCATION:OWA Parks & Resort
END:VEVENT
BEGIN:VEVENT
DTSTART;TZID=UTC:20250726T160000
DTEND;TZID=UTC:20250726T190000
DTSTAMP:20260424T040759
CREATED:20250721T022542Z
LAST-MODIFIED:20250721T022542Z
UID:12166-1753545600-1753556400@themobmom.com
SUMMARY:Magic Christmas in July
DESCRIPTION:Get into the holiday spirit early with an afternoon of festive fun!\nLive Music: Rhythm & Rain will fill the Gardens with feel-good tunes.Toys for Tots Discount: Donate a new\, unwrapped toy starting at 3 PM and receive $5 off general admission. One toy per discounted ticketPhotos with Santa: Snap a free picture with Santa and create a lasting memoryFood & Drinks: Treat yourself to tasty bites and refreshing beverages from our caféCrafts: Oyster Shell Ornaments | Pipe Cleaner Christmas TreesInflatables for the kidsWatch our team hand-tie a Magic Christmas in Lights set piece\nMember: Free | Non-member: General Admission
URL:https://themobmom.com/event/magic-christmas-in-july/
LOCATION:Bellingrath Gardens & Home
ATTACH;FMTTYPE=image/jpeg:https://themobmom.com/wp-content/uploads/2025/07/magic-christmas-in-July.jpg
END:VEVENT
BEGIN:VEVENT
DTSTART;TZID=UTC:20250726T170000
DTEND;TZID=UTC:20250726T200000
DTSTAMP:20260424T040759
CREATED:20250713T134614Z
LAST-MODIFIED:20250713T134614Z
UID:12131-1753549200-1753560000@themobmom.com
SUMMARY:Western Mystery Dinner Theatre
DESCRIPTION:You’ve been invited to the small\, wild western town of Wales West. The future site of a thundering 19th century metropolis according to the eccentric real estate tycoon who’s been procuring every parcel of land he can get his hands on. But when foul play occurs aboard the lovely Dame Anne locomotive\, it’s up to you and Sheriff Gunn to solve the mystery. Dust off your hats and boots and come along with a colorful cast of characters as we ride the rails\, decipher the clues\, and get to the bottom of the mystery all before supper gets cold. In this 90-120 minute interactive mystery game YOU become the detective as you analyze evidence\, interrogate suspects and use your powers of observation to suss out the guilty party.\nThis is an ALL AGES SHOW\, we aim to make it fun for the whole family! Come help us solve the mystery!\nThe gates open 5pm to allow for some activities and appetizers before the train ride. Come early and enjoy the pre-show festivities!. The Steam Engine will LEAVE THE STATION at 6:15 SHARP! Please DO NOT BE LATE.\nWhat’s included:*Authentic Steam Engine Excursion*Mini Train rides will be available before the Mystery starts!*Appetizer at the Train Station before trip*Full Meal at the Mystery Venue\, Tea & Water Included\, Soft drinks available in Reusable Souvenir Cup\, BYOB.*Buster’s BBQ will be whipping up some Old Western style meats and sides! There will be also “more normal” options available children to enjoy also.*Libations will be made available at the Dinner Venue\, 2 drink tickets per adult included with meal (Tips are appreciated!) Special “Railroad” themed concoctions will be on hand.*Dessert At the Train Station after trip.*Pictures with the Cast and Crew*Putt-Putt Golf Course available to enjoy after the show\nAdult Ticket-$70Child Ticket (3-12 years old)- $452 and under FREE
URL:https://themobmom.com/event/western-mystery-dinner-theatre/
LOCATION:Wales West\, Silverhill\, Alabama
ATTACH;FMTTYPE=image/jpeg:https://themobmom.com/wp-content/uploads/2025/07/506454312_1225387519617334_574690651624860646_n.jpg
END:VEVENT
BEGIN:VEVENT
DTSTART;TZID=UTC:20250726T190000
DTEND;TZID=UTC:20250726T200000
DTSTAMP:20260424T040759
CREATED:20250724T145718Z
LAST-MODIFIED:20250724T145718Z
UID:12177-1753556400-1753560000@themobmom.com
SUMMARY:Brandon Styles Variety Show
DESCRIPTION:A family-friendly\, impression\, comedy and magic show! Discover the many faces of Brandon Styles in this year-round Variety Show. Impressions from Frank Sinatra to Justin Bieber\, with 60 additional impressions in between! Sprinkled with just the right amount of comedy and magic to make this a great entertainment hour for all ages. Brandon Styles LIVE at OWA is a classy show that has something for the whole family! Brandon will awe you during his live performance of nearly 60 different celebrity singing & speaking impressions. To make this show unlike any other in the world\, he has incorporated the perfect amount of comedy\, magic\, dancing\, ventriloquism and audience participation in this fast-paced 60 minute show!
URL:https://themobmom.com/event/brandon-styles-variety-show-9/
LOCATION:OWA Parks & Resort
END:VEVENT
BEGIN:VEVENT
DTSTART;TZID=UTC:20250726T190000
DTEND;TZID=UTC:20250726T210000
DTSTAMP:20260424T040759
CREATED:20250724T152510Z
LAST-MODIFIED:20250724T152510Z
UID:12192-1753556400-1753563600@themobmom.com
SUMMARY:Summer Dive In Movies : Jungle Cruise
DESCRIPTION:Join us at Kidd Park Pool this Saturday\, July 26\, for the viewing of  Disney’s Jungle Cruise  starring Dwayne “The Rock” Johnson and Emily Blunt. The pool will close one hour before showtime to allow for event set-up. Once reopened\, there will be inflatable pool games available for guests to enjoy prior to the movie beginning at sundown.\nThis free event is open to the public!  Round donut floaties\, lawn chairs and small coolers are welcome; no glass bottles allowed. Register your free attendance at the link below:\nhttps://mprd.recdesk.com/Community/Program/Detail…
URL:https://themobmom.com/event/summer-dive-in-movies-jungle-cruise/
LOCATION:Kidd Park
ATTACH;FMTTYPE=image/jpeg:https://themobmom.com/wp-content/uploads/2025/07/dive-in-movie.jpg
END:VEVENT
END:VCALENDAR