BEGIN:VCALENDAR
VERSION:2.0
PRODID:-//MOB Moms - ECPv6.15.1.1//NONSGML v1.0//EN
CALSCALE:GREGORIAN
METHOD:PUBLISH
X-WR-CALNAME:MOB Moms
X-ORIGINAL-URL:https://themobmom.com
X-WR-CALDESC:Events for MOB Moms
REFRESH-INTERVAL;VALUE=DURATION:PT1H
X-Robots-Tag:noindex
X-PUBLISHED-TTL:PT1H
BEGIN:VTIMEZONE
TZID:UTC
BEGIN:STANDARD
TZOFFSETFROM:+0000
TZOFFSETTO:+0000
TZNAME:UTC
DTSTART:20250101T000000
END:STANDARD
END:VTIMEZONE
BEGIN:VEVENT
DTSTART;TZID=UTC:20250602T090000
DTEND;TZID=UTC:20250728T150000
DTSTAMP:20260424T040759
CREATED:20250522T144538Z
LAST-MODIFIED:20250522T144538Z
UID:11252-1748854800-1753714800@themobmom.com
SUMMARY:Two Dolla Mondays
DESCRIPTION:Every Monday from 9am to 3pm enjoy $2 Bowling Games (price is per person / per game) and $2 shoes!\nWe are thinking Mondays should be deemed family day at Eastern Shore Lanes!\nFirst Come First Serve – No reservations
URL:https://themobmom.com/event/two-dolla-mondays/
LOCATION:Eastern Shore Lanes
ATTACH;FMTTYPE=image/jpeg:https://themobmom.com/wp-content/uploads/2025/05/497669524_1237671361702376_1685324287553650333_n.jpg
END:VEVENT
BEGIN:VEVENT
DTSTART;TZID=UTC:20250605T100000
DTEND;TZID=UTC:20250724T230000
DTSTAMP:20260424T040759
CREATED:20250522T152507Z
LAST-MODIFIED:20250522T152507Z
UID:11277-1749117600-1753398000@themobmom.com
SUMMARY:Summer Reading at Foley Public Library
DESCRIPTION:Every Thursday at Foley Public Library is a BIG deal for little ones! Join us at the Foley Civic Center for stories and surprises designed just for kids of all ages! Each week is a new adventure—don’t miss out!Thursdays10:00AMFOLEY CIVIC CENTERFREE! No registration needed
URL:https://themobmom.com/event/summer-reading-at-foley-public-library/
LOCATION:Foley Civic Center
ATTACH;FMTTYPE=image/jpeg:https://themobmom.com/wp-content/uploads/2025/05/494969815_695563172979701_4922448185245291738_n.jpg
END:VEVENT
BEGIN:VEVENT
DTSTART;VALUE=DATE:20250724
DTEND;VALUE=DATE:20250725
DTSTAMP:20260424T040759
CREATED:20250724T184607Z
LAST-MODIFIED:20250724T184607Z
UID:12203-1753315200-1753401599@themobmom.com
SUMMARY:Free Family Beach Movie
DESCRIPTION:Our very popular Free Family Movie Nights are once again sponsored by our friends at Greer’s Markets and kick off on May 22 featuring Madagascar. Movies are held at East End Beach and begin at dusk (weather permitting). Bring beach chairs\, blankets and bug spray (just in case). The remaining summer line up is \, June 26- Despicable Me\, June 27- Princess and the Frog\, July 3- Jaws\, July 5- Jaws\, July 10- Lilo & Stitch\, July 11- The Little Mermaid\, July 24- Shark Tale\, July 25- Finding Nemo\, July 31- Moana\, August 1- Lyle\, Lyle\, Crocodile\, August 7-Dr. Dolittle\, August 8- Yes Day. Great family fun!
URL:https://themobmom.com/event/free-family-beach-movie/
LOCATION:East End Beach\, Dauphin Island
ATTACH;FMTTYPE=image/jpeg:https://themobmom.com/wp-content/uploads/2025/05/DI-movie-night.jpg
END:VEVENT
BEGIN:VEVENT
DTSTART;TZID=UTC:20250724T100000
DTEND;TZID=UTC:20250724T110000
DTSTAMP:20260424T040759
CREATED:20250709T163444Z
LAST-MODIFIED:20250709T163444Z
UID:12056-1753351200-1753354800@themobmom.com
SUMMARY:Foley Public Library Glow Party
DESCRIPTION:Get ready to GLOW!  Join us for a high-energy Glow Party where everything shines bright—even in the dark! We’ll have glow-in-the-dark everything\, from decorations to games and more. Dance the day away with our live DJ\, enjoy a sweet treat from the Kona Ice Truck. It’s going to be non-stop fun for kids of all ages—don’t miss out on the brightest party of the summer!\nFOLEY CIVIC CENTER!
URL:https://themobmom.com/event/foley-public-library-glow-party/
LOCATION:Foley Civic Center
ATTACH;FMTTYPE=image/jpeg:https://themobmom.com/wp-content/uploads/2025/07/502732038_731574062711945_3064709323433811247_n.jpg
END:VEVENT
BEGIN:VEVENT
DTSTART;TZID=UTC:20250724T170000
DTEND;TZID=UTC:20250724T210000
DTSTAMP:20260424T040759
CREATED:20250711T152624Z
LAST-MODIFIED:20250711T152624Z
UID:12115-1753376400-1753390800@themobmom.com
SUMMARY:Beats Bash
DESCRIPTION:Turn up the fun every Thursday night with Beats Bash\, part of the Summer Series in Downtown OWA! From interactive music games and DIY crafts to live drum circles and Disco Dome parties\, there’s something to spark every kid’s imagination.\nCatch music-themed activities at the Splashpad\, creative kids’ zones at the Flowerbed\, and jam along with a percussionist-led drum circle at the Fountain. Whether you’re a dancer\, dreamer\, or drum enthusiast\, Beats Bash brings the beat for the whole family — only at Downtown OWA.
URL:https://themobmom.com/event/beats-bash-2/
LOCATION:Downtown OWA
ATTACH;FMTTYPE=image/jpeg:https://themobmom.com/wp-content/uploads/2025/07/499413683_1005628001754543_6940632376104975427_n.jpg
END:VEVENT
BEGIN:VEVENT
DTSTART;TZID=UTC:20250724T180000
DTEND;TZID=UTC:20250724T190000
DTSTAMP:20260424T040759
CREATED:20250721T021026Z
LAST-MODIFIED:20250721T021026Z
UID:12152-1753380000-1753383600@themobmom.com
SUMMARY:Run Club @ Braided River | Every Thursday @ 6 p.m.
DESCRIPTION:Braided River’s Run Club meets every Thursday at 6 p.m.!\nThis public run club is open to all levels and ability\, including walkers\, marathoners\, kids and even dogs. You can choose from a 5K or 1-mile route\, both of which take off from the taproom at 6 p.m. Join Downtown Runners United By Beer afterward in the taproom for raffles\, camaraderie and ice-cold craft beer!
URL:https://themobmom.com/event/run-club-braided-river-every-thursday-6-p-m-2/
LOCATION:Braided River Brewing Co\, Mobile\, Alabama
ATTACH;FMTTYPE=image/jpeg:https://themobmom.com/wp-content/uploads/2025/07/Run-club.jpg
END:VEVENT
BEGIN:VEVENT
DTSTART;TZID=UTC:20250724T180000
DTEND;TZID=UTC:20250724T210000
DTSTAMP:20260424T040759
CREATED:20250724T144844Z
LAST-MODIFIED:20250724T144844Z
UID:12173-1753380000-1753390800@themobmom.com
SUMMARY:Bubble Bash
DESCRIPTION:Get ready for a bubbly good time because Thursdays are about to be Poppin’. Come early and enjoy entertainment from DJ Matt\, camel rides\, cornhole games\, face painting + more! Dance to the beats\, dive into kid-friendly fun\, and splash around the Bubble Truck because things are about to get poppin’ all season long! \n\n\n\nWhere\nMain Street\n\n\nDate\nThursday\, July 24\n\n\nTime\n6 pm – 9 pm\n\n\nEvent Schedule\n\n\nKids’ Activities + DJ Matt: 6-9 pm\nBubble Truck: 6:30-8:30 pm / Last 30 min – GLOW Bubbles\nSPECTRA Laser Light Experience: 8:30\, 9 + 9:30 pm\n\n\n\n\nCost\n\nFREE admission + parking; some activities cost $5-10 \n\n\n\nOther\n\nDon’t forget a swimsuit + towel for the water activities! Giant 15 ft water slide on July 17 + 24
URL:https://themobmom.com/event/bubble-bash-5/
LOCATION:The Wharf- Main Street
END:VEVENT
BEGIN:VEVENT
DTSTART;TZID=UTC:20250724T183000
DTEND;TZID=UTC:20250724T203000
DTSTAMP:20260424T040759
CREATED:20250711T151125Z
LAST-MODIFIED:20250711T151125Z
UID:12109-1753381800-1753389000@themobmom.com
SUMMARY:Community Block Party @ Heritage Park in Foley
DESCRIPTION:July 24th at Heritage Park in Downtown Foley!From 6:30 until dark!\nCome join us for a fun night of bounce houses\, lawn games\, popcorn\, snow-cones\, giveaways\, music\, faceprinting\, drama and MUCH MORE!\nThis is a FREE event to bless your community\, hosted by First Baptist Church of Gulf Shores!
URL:https://themobmom.com/event/community-block-party-heritage-park-in-foley/
LOCATION:Heritage Park (Foley)
ATTACH;FMTTYPE=image/jpeg:https://themobmom.com/wp-content/uploads/2025/07/518063566_1082865700604149_5263805098083320573_n.jpg
END:VEVENT
END:VCALENDAR