BEGIN:VCALENDAR
VERSION:2.0
PRODID:-//MOB Moms - ECPv6.15.1.1//NONSGML v1.0//EN
CALSCALE:GREGORIAN
METHOD:PUBLISH
X-WR-CALNAME:MOB Moms
X-ORIGINAL-URL:https://themobmom.com
X-WR-CALDESC:Events for MOB Moms
REFRESH-INTERVAL;VALUE=DURATION:PT1H
X-Robots-Tag:noindex
X-PUBLISHED-TTL:PT1H
BEGIN:VTIMEZONE
TZID:UTC
BEGIN:STANDARD
TZOFFSETFROM:+0000
TZOFFSETTO:+0000
TZNAME:UTC
DTSTART:20250101T000000
END:STANDARD
END:VTIMEZONE
BEGIN:VEVENT
DTSTART;TZID=UTC:20250602T090000
DTEND;TZID=UTC:20250728T150000
DTSTAMP:20260424T040759
CREATED:20250522T144538Z
LAST-MODIFIED:20250522T144538Z
UID:11252-1748854800-1753714800@themobmom.com
SUMMARY:Two Dolla Mondays
DESCRIPTION:Every Monday from 9am to 3pm enjoy $2 Bowling Games (price is per person / per game) and $2 shoes!\nWe are thinking Mondays should be deemed family day at Eastern Shore Lanes!\nFirst Come First Serve – No reservations
URL:https://themobmom.com/event/two-dolla-mondays/
LOCATION:Eastern Shore Lanes
ATTACH;FMTTYPE=image/jpeg:https://themobmom.com/wp-content/uploads/2025/05/497669524_1237671361702376_1685324287553650333_n.jpg
END:VEVENT
BEGIN:VEVENT
DTSTART;TZID=UTC:20250603T180000
DTEND;TZID=UTC:20250722T193000
DTSTAMP:20260424T040759
CREATED:20250522T151518Z
LAST-MODIFIED:20250522T151518Z
UID:11270-1748973600-1753212600@themobmom.com
SUMMARY:Mountain Bike Skills & Race Series - Daphne
DESCRIPTION:The Gulf Coast Youth Mountain Bike Association is hosting a fun and supportive weekly biking clinic for K-6th grade students. Weekly sessions beginning Tuesday\, June 3 for eight weeks; all for $50.\nJune: Skill-building sessions focused on the basics of trail ridingJuly: Short course races to practice what they’ve learned\nLet your child experience the fun of mountain biking while learning trail safety\, technique\, and teamwork!
URL:https://themobmom.com/event/mountain-bike-skills-race-series-daphne/
LOCATION:Daphne Sports Complex
ATTACH;FMTTYPE=image/jpeg:https://themobmom.com/wp-content/uploads/2025/05/494207033_1087972236688885_4763223912666161436_n.jpg
END:VEVENT
BEGIN:VEVENT
DTSTART;TZID=UTC:20250605T100000
DTEND;TZID=UTC:20250724T230000
DTSTAMP:20260424T040759
CREATED:20250522T152507Z
LAST-MODIFIED:20250522T152507Z
UID:11277-1749117600-1753398000@themobmom.com
SUMMARY:Summer Reading at Foley Public Library
DESCRIPTION:Every Thursday at Foley Public Library is a BIG deal for little ones! Join us at the Foley Civic Center for stories and surprises designed just for kids of all ages! Each week is a new adventure—don’t miss out!Thursdays10:00AMFOLEY CIVIC CENTERFREE! No registration needed
URL:https://themobmom.com/event/summer-reading-at-foley-public-library/
LOCATION:Foley Civic Center
ATTACH;FMTTYPE=image/jpeg:https://themobmom.com/wp-content/uploads/2025/05/494969815_695563172979701_4922448185245291738_n.jpg
END:VEVENT
BEGIN:VEVENT
DTSTART;TZID=UTC:20250712T080000
DTEND;TZID=UTC:20250713T170000
DTSTAMP:20260424T040759
CREATED:20250630T223742Z
LAST-MODIFIED:20250630T224807Z
UID:11899-1752307200-1752426000@themobmom.com
SUMMARY:Gem Amethyst Rock Fossil Sale
DESCRIPTION:Gem Amethyst Rock Fossil Sale July 12\, 13 (9am – 5pm) – (Mobile/Daphne\, AL)\nSale date and times:Saturday July 12 – 9am – 5pmSunday July 13 – 9am – 4pm\nAddress:Hampton Inn Mobile – East Bay/ Daphne (Show Room)29451 US Hwy 98\, Daphne\, AL 36526\n• Admission = Free• Parking = Free• Forms of payment: Cash preferred\, C Card ++\nMeteoritesCabochonsBeautiful Amethyst Cathedrals (5” to 5’)1000(s) rocks and fossils starting at only $5 each.Crystals Minerals Fossils Gems – literally 1000 of exquisite specimens from around the world
URL:https://themobmom.com/event/gem-amethyst-rock-fossil-sale/
LOCATION:Hampton Inn Mobile East Bay Daphne\, Daphne
ATTACH;FMTTYPE=image/jpeg:https://themobmom.com/wp-content/uploads/2025/06/502542900_726522913399379_2343091622801491863_n.jpg
END:VEVENT
BEGIN:VEVENT
DTSTART;TZID=UTC:20250712T100000
DTEND;TZID=UTC:20250712T140000
DTSTAMP:20260424T040759
CREATED:20250709T161811Z
LAST-MODIFIED:20250709T161811Z
UID:12042-1752314400-1752328800@themobmom.com
SUMMARY:Coastal Makers Children's and Adult's Classes
DESCRIPTION:Come craft with Coastal Makers! They will be at the Loxley Community Center on July 12!\n10:00 a.m. – Ages 5yr – 13yr will be led through creating a Driftwood Wind Catcher.\n1:00 p.m. – Ages 14yr – Adults will be led through creating a Mosaic.\nThe Loxley Community Center is located at 2131 E Relham Dr. directly across the street from the Loxley Police Station.\nFree\, but must register.\nSpace is limited and registration is required for this event. To register\, call the LPL at (251) 965-5695
URL:https://themobmom.com/event/coastal-makers-childrens-and-adults-classes/
LOCATION:Loxley Community Center\, Loxley\, Alabama
ATTACH;FMTTYPE=image/jpeg:https://themobmom.com/wp-content/uploads/2025/07/506414390_1173539184811482_282274650237255741_n.jpg
END:VEVENT
BEGIN:VEVENT
DTSTART;TZID=UTC:20250712T130000
DTEND;TZID=UTC:20250712T160000
DTSTAMP:20260424T040759
CREATED:20250711T135838Z
LAST-MODIFIED:20250711T135838Z
UID:12081-1752325200-1752336000@themobmom.com
SUMMARY:Bluey Sleepy-Time Event
DESCRIPTION:Hey parents Looking for some Sleepy-Summer fun? Bring the kiddos to Books-A-Million for a Bluey Sleepytime Event—a cozy “night” of stories\, giggles\, and Bluey magic. Pajamas encouraged\, cuteness guaranteed(We’ll be in ours!) 1PM-4PM3962 Airport Blvd\, Unit 14\, Mobile\, AL. 36608
URL:https://themobmom.com/event/bluey-sleepy-time-event/
LOCATION:Books-A-Million\, Mobile AL
ATTACH;FMTTYPE=image/jpeg:https://themobmom.com/wp-content/uploads/2025/07/514278257_122105287466921559_6111793825315790043_n.jpg
END:VEVENT
BEGIN:VEVENT
DTSTART;TZID=UTC:20250712T140000
DTEND;TZID=UTC:20250712T153000
DTSTAMP:20260424T040759
CREATED:20250709T155035Z
LAST-MODIFIED:20250709T155035Z
UID:12020-1752328800-1752334200@themobmom.com
SUMMARY:Richard Scarry Scavenger Hunt and Story Time
DESCRIPTION:Joins us Saturday the 12th at 2:00 PM for a Richard Scary scavenger hunt and story time! We will have activities and a craft to do! We can’t wait to see you there!
URL:https://themobmom.com/event/richard-scarry-scavenger-hunt-and-story-time/
LOCATION:Barnes & Noble\, Spanish Fort\, AL
ATTACH;FMTTYPE=image/jpeg:https://themobmom.com/wp-content/uploads/2025/07/514372628_1285506263577856_8025755691757138462_n.jpg
END:VEVENT
BEGIN:VEVENT
DTSTART;TZID=UTC:20250712T170000
DTEND;TZID=UTC:20250712T190000
DTSTAMP:20260424T040759
CREATED:20250709T142708Z
LAST-MODIFIED:20250709T142708Z
UID:12008-1752339600-1752346800@themobmom.com
SUMMARY:Dunks For Wishes
DESCRIPTION:Join us for “Dunks for Wishes” on July 12th from 5 PM to 9 PM! This exciting event features a dunk tank where every splash helps grant a wish for a local child through the Make-A-Wish Foundation. We’re inviting community favorites like police officers\, firefighters\, the mayor\, council members\, coaches\, and anyone eager to join the fun to take a turn in the dunk tank. Enjoy live music\, activities for all ages\, and a foam party—it’s a night you won’t want to miss!\nGet ready to satisfy your cravings with Double DS Burger at the event! Enjoy delicious burgers\, cold beer\, and the best margaritas around. Make sure to stop by and treat yourself while having a blast at “Dunks for Wishes”!
URL:https://themobmom.com/event/dunks-for-wishes/
LOCATION:Double D’s Burgers\, Spanish Fort\, AL\, 36527
ATTACH;FMTTYPE=image/jpeg:https://themobmom.com/wp-content/uploads/2025/07/505267307_688336550852031_5470665339734284383_n.jpg
END:VEVENT
BEGIN:VEVENT
DTSTART;TZID=UTC:20250712T173000
DTEND;TZID=UTC:20250712T200000
DTSTAMP:20260424T040759
CREATED:20250711T144000Z
LAST-MODIFIED:20250711T144000Z
UID:12095-1752341400-1752350400@themobmom.com
SUMMARY:Pop-Up Park and Block Party
DESCRIPTION:Join us for our first Pop-up Park & Block Party at Marjorie Snook Park\, located behind City Hall! Pop-Up Parks are designed to bring awareness to underutilized green spaces throughout our City.\nLive music will be provided by the Funky Lampshades-so bring your comfy chairs or blankets to sit. The Coastal Alabama Business Chamber will be selling beverages for ALL ages and Sugar Love food truck will be on-site for dinner! The Orange Beach History Museum will have extended hours until 8:30 p.m.\, so stop in and check them out!\nWhat’s a park without a little competition? We’ll hold our first annual hot-dog eating competition\, for ages 18 and up\, during intermission. Grand Prize winner gets lots of cool prizes\, plus a year’s free membership to the Orange Beach Fitness Center!\nThe Orange Beach Fire Department will be using their water truck to keep the kids cool and a water-feature inflatable will be provided-so make sure the kiddos bring a towel and change of clothes!\nGolf cart use is encouraged and designated cart parking will be in the grass lot in front of Fire Station 1.
URL:https://themobmom.com/event/pop-up-park-and-block-party/
LOCATION:Marjorie Snook Park\, Gulf Shores\, Alabama
ATTACH;FMTTYPE=image/jpeg:https://themobmom.com/wp-content/uploads/2025/07/516848044_1363656618563597_5656954345244307865_n.jpg
END:VEVENT
BEGIN:VEVENT
DTSTART;TZID=UTC:20250712T180000
DTEND;TZID=UTC:20250712T200000
DTSTAMP:20260424T040759
CREATED:20250709T162508Z
LAST-MODIFIED:20250709T162508Z
UID:12049-1752343200-1752350400@themobmom.com
SUMMARY:Summer Concert in the Square
DESCRIPTION:Bring a blanket or a chair and join us for food trucks and a Summer concert!
URL:https://themobmom.com/event/summer-concert-in-the-square/
LOCATION:Town of Silverhill\, Alabama
ATTACH;FMTTYPE=image/jpeg:https://themobmom.com/wp-content/uploads/2025/07/515056740_743628358022566_5103342348253318008_n.jpg
END:VEVENT
BEGIN:VEVENT
DTSTART;TZID=UTC:20250712T180000
DTEND;TZID=UTC:20250712T200000
DTSTAMP:20260424T040759
CREATED:20250711T134815Z
LAST-MODIFIED:20250711T134815Z
UID:12074-1752343200-1752350400@themobmom.com
SUMMARY:Summer Dive-In Movies: Sonic the Hedgehog 3
DESCRIPTION:We had to take a rain check for our originally scheduled program\, so let’s try this again\, shall we!\nGet ready (AGAIN) for our first  Dive-In Movie of the Summer\, hosted by the MPRD Aquatics Department!\n Grab your towels and donut floaties\, and meet us at Dotch Community Center Pool on Saturday\, July 12 for the showing of the hit film\, Sonic the Hedgehog 3.\nThe Dotch Community Center Pool will close at 5:00 p.m. on that Saturday evening and re-open for Dive-in guests at 6:30 p.m.  The movie will begin promptly at sundown.\nUntil then\, enjoy exciting Sonic-themed pool games  and snacks from our featured food trucks! \nSmall beach chairs and mini-coolers are welcome. No glass bottles are permitted in the pool area.\nLooking forward to seeing you all there! It is going to be a great time!
URL:https://themobmom.com/event/summer-dive-in-movies-sonic-the-hedgehog-3-2/
LOCATION:Dotch Community Center
ATTACH;FMTTYPE=image/jpeg:https://themobmom.com/wp-content/uploads/2025/07/514419984_1178504120974721_8051870016596952304_n.jpg
END:VEVENT
END:VCALENDAR