BEGIN:VCALENDAR
VERSION:2.0
PRODID:-//MOB Moms - ECPv6.15.1.1//NONSGML v1.0//EN
CALSCALE:GREGORIAN
METHOD:PUBLISH
X-WR-CALNAME:MOB Moms
X-ORIGINAL-URL:https://themobmom.com
X-WR-CALDESC:Events for MOB Moms
REFRESH-INTERVAL;VALUE=DURATION:PT1H
X-Robots-Tag:noindex
X-PUBLISHED-TTL:PT1H
BEGIN:VTIMEZONE
TZID:UTC
BEGIN:STANDARD
TZOFFSETFROM:+0000
TZOFFSETTO:+0000
TZNAME:UTC
DTSTART:20250101T000000
END:STANDARD
END:VTIMEZONE
BEGIN:VEVENT
DTSTART;TZID=UTC:20250602T090000
DTEND;TZID=UTC:20250728T150000
DTSTAMP:20260424T040758
CREATED:20250522T144538Z
LAST-MODIFIED:20250522T144538Z
UID:11252-1748854800-1753714800@themobmom.com
SUMMARY:Two Dolla Mondays
DESCRIPTION:Every Monday from 9am to 3pm enjoy $2 Bowling Games (price is per person / per game) and $2 shoes!\nWe are thinking Mondays should be deemed family day at Eastern Shore Lanes!\nFirst Come First Serve – No reservations
URL:https://themobmom.com/event/two-dolla-mondays/
LOCATION:Eastern Shore Lanes
ATTACH;FMTTYPE=image/jpeg:https://themobmom.com/wp-content/uploads/2025/05/497669524_1237671361702376_1685324287553650333_n.jpg
END:VEVENT
BEGIN:VEVENT
DTSTART;TZID=UTC:20250603T180000
DTEND;TZID=UTC:20250722T193000
DTSTAMP:20260424T040758
CREATED:20250522T151518Z
LAST-MODIFIED:20250522T151518Z
UID:11270-1748973600-1753212600@themobmom.com
SUMMARY:Mountain Bike Skills & Race Series - Daphne
DESCRIPTION:The Gulf Coast Youth Mountain Bike Association is hosting a fun and supportive weekly biking clinic for K-6th grade students. Weekly sessions beginning Tuesday\, June 3 for eight weeks; all for $50.\nJune: Skill-building sessions focused on the basics of trail ridingJuly: Short course races to practice what they’ve learned\nLet your child experience the fun of mountain biking while learning trail safety\, technique\, and teamwork!
URL:https://themobmom.com/event/mountain-bike-skills-race-series-daphne/
LOCATION:Daphne Sports Complex
ATTACH;FMTTYPE=image/jpeg:https://themobmom.com/wp-content/uploads/2025/05/494207033_1087972236688885_4763223912666161436_n.jpg
END:VEVENT
BEGIN:VEVENT
DTSTART;TZID=UTC:20250605T100000
DTEND;TZID=UTC:20250724T230000
DTSTAMP:20260424T040758
CREATED:20250522T152507Z
LAST-MODIFIED:20250522T152507Z
UID:11277-1749117600-1753398000@themobmom.com
SUMMARY:Summer Reading at Foley Public Library
DESCRIPTION:Every Thursday at Foley Public Library is a BIG deal for little ones! Join us at the Foley Civic Center for stories and surprises designed just for kids of all ages! Each week is a new adventure—don’t miss out!Thursdays10:00AMFOLEY CIVIC CENTERFREE! No registration needed
URL:https://themobmom.com/event/summer-reading-at-foley-public-library/
LOCATION:Foley Civic Center
ATTACH;FMTTYPE=image/jpeg:https://themobmom.com/wp-content/uploads/2025/05/494969815_695563172979701_4922448185245291738_n.jpg
END:VEVENT
BEGIN:VEVENT
DTSTART;VALUE=DATE:20250703
DTEND;VALUE=DATE:20250704
DTSTAMP:20260424T040758
CREATED:20250627T151359Z
LAST-MODIFIED:20250627T151359Z
UID:11879-1751500800-1751587199@themobmom.com
SUMMARY:Free Family Beach Movies on Dauphin Island
DESCRIPTION:Our very popular Free Family Movie Nights are once again sponsored by our friends at Greer’s Markets and kick off on May 22 featuring Madagascar. Movies are held at East End Beach and begin at dusk (weather permitting). Bring beach chairs\, blankets and bug spray (just in case). The remaining summer line up is \, June 26- Despicable Me\, June 27- Princess and the Frog\, July 3- Jaws\, July 5- Jaws\, July 10- Lilo & Stitch\, July 11- The Little Mermaid\, July 24- Shark Tale\, July 25- Finding Nemo\, July 31- Moana\, August 1- Lyle\, Lyle\, Crocodile\, August 7-Dr. Dolittle\, August 8- Yes Day. Great family fun!
URL:https://themobmom.com/event/free-family-beach-movies-on-dauphin-island/
LOCATION:East End Beach\, Dauphin Island
ATTACH;FMTTYPE=image/jpeg:https://themobmom.com/wp-content/uploads/2025/05/DI-movie-night.jpg
END:VEVENT
BEGIN:VEVENT
DTSTART;VALUE=DATE:20250703
DTEND;VALUE=DATE:20250704
DTSTAMP:20260424T040758
CREATED:20250627T151518Z
LAST-MODIFIED:20250627T151518Z
UID:11881-1751500800-1751587199@themobmom.com
SUMMARY:Market in Green Park
DESCRIPTION:Stop by Green Park every Thursday from 9am-5pm and every second Saturday from 9am-3pm to see what the island has to offer! This event provides an outlet for local farmers\, crafters\, and island businesses to promote their products\, rentals\, services\, and more. If you would like to be part of the market please email mgodwin@townofdauphinisland.org.
URL:https://themobmom.com/event/market-in-green-park/
LOCATION:Green Park Dauphin Island
END:VEVENT
BEGIN:VEVENT
DTSTART;TZID=UTC:20250703T110000
DTEND;TZID=UTC:20250703T170000
DTSTAMP:20260424T040758
CREATED:20250702T223101Z
LAST-MODIFIED:20250702T223101Z
UID:11985-1751540400-1751562000@themobmom.com
SUMMARY:Lemon Babies
DESCRIPTION:Y’all come out and get a Specialty Fresh Squeezed Lemonade that’s super delicious!!! Then you can step inside and get the best haircut just in time for the 4th of July
URL:https://themobmom.com/event/lemon-babies/
LOCATION:Skyland Barbershop
ATTACH;FMTTYPE=image/jpeg:https://themobmom.com/wp-content/uploads/2025/07/504377260_122118417920913659_2898482778526528563_n.jpg
END:VEVENT
BEGIN:VEVENT
DTSTART;TZID=UTC:20250703T170000
DTEND;TZID=UTC:20250703T210000
DTSTAMP:20260424T040758
CREATED:20250626T143057Z
LAST-MODIFIED:20250626T143057Z
UID:11807-1751562000-1751576400@themobmom.com
SUMMARY:Beats Bash at OWA
DESCRIPTION:Turn up the fun every Thursday night with Beats Bash\, part of the Summer Series in Downtown OWA! From interactive music games and DIY crafts to live drum circles and Disco Dome parties\, there’s something to spark every kid’s imagination. \nCatch music-themed activities at the Splashpad\, creative kids’ zones at the Flowerbed\, and jam along with a percussionist-led drum circle at the Fountain. Whether you’re a dancer\, dreamer\, or drum enthusiast\, Beats Bash brings the beat for the whole family — only at Downtown OWA. \n\n\n\n\nSchedule of Events:\n\n\n\n\n\n5:00 – 9:00 pm:\n\nInflatable Disco Dome at the Native Treasures Alcove\nMusic Activities at the Downtown Splashpad\nKids Activities at the Downtown Flowerbed\nDrum Ciricle at the Downtown Fountain\nMusic Bingo at Towne Tap
URL:https://themobmom.com/event/beats-bash-at-owa-2/
LOCATION:Downtown OWA
ATTACH;FMTTYPE=image/jpeg:https://themobmom.com/wp-content/uploads/2025/06/owa-beats-bash.jpg
END:VEVENT
END:VCALENDAR