BEGIN:VCALENDAR
VERSION:2.0
PRODID:-//MOB Moms - ECPv6.15.1.1//NONSGML v1.0//EN
CALSCALE:GREGORIAN
METHOD:PUBLISH
X-ORIGINAL-URL:https://themobmom.com
X-WR-CALDESC:Events for MOB Moms
REFRESH-INTERVAL;VALUE=DURATION:PT1H
X-Robots-Tag:noindex
X-PUBLISHED-TTL:PT1H
BEGIN:VTIMEZONE
TZID:UTC
BEGIN:STANDARD
TZOFFSETFROM:+0000
TZOFFSETTO:+0000
TZNAME:UTC
DTSTART:20250101T000000
END:STANDARD
END:VTIMEZONE
BEGIN:VEVENT
DTSTART;TZID=UTC:20250602T090000
DTEND;TZID=UTC:20250728T150000
DTSTAMP:20260424T053453
CREATED:20250522T144538Z
LAST-MODIFIED:20250522T144538Z
UID:11252-1748854800-1753714800@themobmom.com
SUMMARY:Two Dolla Mondays
DESCRIPTION:Every Monday from 9am to 3pm enjoy $2 Bowling Games (price is per person / per game) and $2 shoes!\nWe are thinking Mondays should be deemed family day at Eastern Shore Lanes!\nFirst Come First Serve – No reservations
URL:https://themobmom.com/event/two-dolla-mondays/
LOCATION:Eastern Shore Lanes
ATTACH;FMTTYPE=image/jpeg:https://themobmom.com/wp-content/uploads/2025/05/497669524_1237671361702376_1685324287553650333_n.jpg
END:VEVENT
BEGIN:VEVENT
DTSTART;TZID=UTC:20250603T180000
DTEND;TZID=UTC:20250722T193000
DTSTAMP:20260424T053453
CREATED:20250522T151518Z
LAST-MODIFIED:20250522T151518Z
UID:11270-1748973600-1753212600@themobmom.com
SUMMARY:Mountain Bike Skills & Race Series - Daphne
DESCRIPTION:The Gulf Coast Youth Mountain Bike Association is hosting a fun and supportive weekly biking clinic for K-6th grade students. Weekly sessions beginning Tuesday\, June 3 for eight weeks; all for $50.\nJune: Skill-building sessions focused on the basics of trail ridingJuly: Short course races to practice what they’ve learned\nLet your child experience the fun of mountain biking while learning trail safety\, technique\, and teamwork!
URL:https://themobmom.com/event/mountain-bike-skills-race-series-daphne/
LOCATION:Daphne Sports Complex
ATTACH;FMTTYPE=image/jpeg:https://themobmom.com/wp-content/uploads/2025/05/494207033_1087972236688885_4763223912666161436_n.jpg
END:VEVENT
BEGIN:VEVENT
DTSTART;TZID=UTC:20250605T100000
DTEND;TZID=UTC:20250724T230000
DTSTAMP:20260424T053453
CREATED:20250522T152507Z
LAST-MODIFIED:20250522T152507Z
UID:11277-1749117600-1753398000@themobmom.com
SUMMARY:Summer Reading at Foley Public Library
DESCRIPTION:Every Thursday at Foley Public Library is a BIG deal for little ones! Join us at the Foley Civic Center for stories and surprises designed just for kids of all ages! Each week is a new adventure—don’t miss out!Thursdays10:00AMFOLEY CIVIC CENTERFREE! No registration needed
URL:https://themobmom.com/event/summer-reading-at-foley-public-library/
LOCATION:Foley Civic Center
ATTACH;FMTTYPE=image/jpeg:https://themobmom.com/wp-content/uploads/2025/05/494969815_695563172979701_4922448185245291738_n.jpg
END:VEVENT
BEGIN:VEVENT
DTSTART;VALUE=DATE:20250626
DTEND;VALUE=DATE:20250629
DTSTAMP:20260424T053453
CREATED:20250627T144604Z
LAST-MODIFIED:20250627T144604Z
UID:11868-1750896000-1751155199@themobmom.com
SUMMARY:Shark Fest 2025
DESCRIPTION:Get ready for an unforgettable adventure at Shark Fest\, an exciting three-day event at the Gulf State Park Pier! Whether you’re passionate about these incredible creatures or simply find them fascinating\, this event is the perfect opportunity to dive deep into the world of sharks.\nThroughout the event\, you’ll have the chance to hear from leading shark researchers who will share their expertise and insights into shark conservation and biology. Watch live shark dissections\, examine an impressive collection of shark bones and teeth\, and learn about the diverse species that inhabit our gulf.\nThere’s something for everyone to enjoy\, including interactive educational crafts and activities\, exciting face painting\, and the chance to get hands-on with a live ray touch tank!\nBe sure to follow us on social media for updates on the timing of dissections and tours!\nDates and Times:\nJune 26 – 2:00 PM – 7:00 PM\nJune 27 – 10:00 AM – 3:00 PM\nJune 28 – 10:00 AM – 3:00 PM\nLocation:\nGulf State Park Saltwater Pier\n20800 East Beach Boulevard\, Gulf Shores\, AL\nFees:\n$5 entry fee\, parking is free. You can pay online or onsite. https://reserve.alapark.com/register/shark-fest-2025\nIf you have any questions\, feel free to reach out to the Gulf State Park Nature Center at 251-948-7275 extension 62093
URL:https://themobmom.com/event/shark-fest-2025/
LOCATION:Gulf State Park Pier
ATTACH;FMTTYPE=image/jpeg:https://themobmom.com/wp-content/uploads/2025/06/shark-fest-2025.jpg
END:VEVENT
BEGIN:VEVENT
DTSTART;VALUE=DATE:20250627
DTEND;VALUE=DATE:20250630
DTSTAMP:20260424T053453
CREATED:20250627T145022Z
LAST-MODIFIED:20250627T145022Z
UID:11871-1750982400-1751241599@themobmom.com
SUMMARY:The Addams Family Musical
DESCRIPTION:*Disclaimer- this is suited best for more mature audiences*\n\nThe Addams Family\, a comical feast that embraces the wackiness in every family\, features an original story and it’s every father’s nightmare: Wednesday Addams\, the ultimate princess of darkness\, has grown up and fallen in love with a sweet\, smart young man from a respectable family– a man her parents have never met. And if that wasn’t upsetting enough\, Wednesday confides in her father and begs him not to tell her mother. Now\, Gomez Addams must do something he’s never done before– keep a secret from his beloved wife\, Morticia. Everything will change for the whole family on the fateful night they host a dinner for Wednesday’s “normal” boyfriend and his parents.\nDirector: Blake GreenwoodMusic Director: Daniel DriskellChoreographer: Zac WestAssistant Choreographer: Caroline WestStage Manager: Helen Rachel\nThe Addam’s Family Cast:Gomez- Kip HayesMorticia- Ashley CampbellWednesday- Morgan SmithFester- Joshua GoldmanPugsley- Carter Hale and Anthony ParagoneGrandma- Lisa HellmanLucas- Jonah AdkinsAlice- Lauren RachelMal- John RichardsLurch- Justin Ortmann\nEnsemble/Ancestors-Caroline WestJessica HeadMeagan DavesEmma CheathamRachel DixonJD DeVittMichael DeveryRoy MillerNoah SmithDylan Knowles
URL:https://themobmom.com/event/the-addams-family-musical/
LOCATION:Joe Jefferson Playhouse\, 11 S Carlen\, Mobile\, Alabama
ATTACH;FMTTYPE=image/jpeg:https://themobmom.com/wp-content/uploads/2025/06/Addams-Family.jpg
END:VEVENT
BEGIN:VEVENT
DTSTART;VALUE=DATE:20250628
DTEND;VALUE=DATE:20250629
DTSTAMP:20260424T053453
CREATED:20250626T152554Z
LAST-MODIFIED:20250626T152554Z
UID:11843-1751068800-1751155199@themobmom.com
SUMMARY:Summerdale Independence Day Celebration
DESCRIPTION:Save the date for Summerdale’s Annual Independence Day Celebration starting at 10AM on Saturday\, June 28th until the fireworks end. Fireworks will light up the sky at 9PM.More information to come!
URL:https://themobmom.com/event/summerdale-independence-day-celebration/
LOCATION:Pioneer Park\, Summerdale Al
ATTACH;FMTTYPE=image/jpeg:https://themobmom.com/wp-content/uploads/2025/06/summerdale-independence-day.jpg
END:VEVENT
BEGIN:VEVENT
DTSTART;TZID=UTC:20250628T073000
DTEND;TZID=UTC:20250628T120000
DTSTAMP:20260424T053453
CREATED:20250626T151749Z
LAST-MODIFIED:20250626T151749Z
UID:11838-1751095800-1751112000@themobmom.com
SUMMARY:Spring/Summer Market in the Park
DESCRIPTION:Shop locally grown\, locally produced and handmade items at Market in the Park! \nThis spring/summer\, Market in the Park will run every Saturday from April 26 through June 28. Explore a wide variety of fresh\, locally-grown produce\, artisanal goods\, and handcrafted items from local vendors while enjoying live entertainment in Cathedral Square.  We’re proud to support our community with a selection of vendors who accept SNAP benefits\, making fresh\, healthy options accessible to all.\nEvery Saturday\, the market will open at Cathedral Square at 7:30 a.m. and close at noon.\nLearn more and register to become a vendor at www.cityofmobile.org/events!
URL:https://themobmom.com/event/spring-summer-market-in-the-park-8/
LOCATION:Cathedral Square\, Mobile\, Alabama
ATTACH;FMTTYPE=image/jpeg:https://themobmom.com/wp-content/uploads/2025/05/488884682_992204126419453_7760596316720170802_n.jpg
END:VEVENT
BEGIN:VEVENT
DTSTART;TZID=UTC:20250628T100000
DTEND;TZID=UTC:20250628T120000
DTSTAMP:20260424T053453
CREATED:20250627T151146Z
LAST-MODIFIED:20250627T151146Z
UID:11877-1751104800-1751112000@themobmom.com
SUMMARY:Sand Sculpture Competition
DESCRIPTION:Come out to the East End of Dauphin Island on June 28 from 10am-Noon for the Island’s second annual Sand Sculpture Competition! There will be demonstrations of techniques\, utilization of tools and tricks by professional artist Jason Harwell with Sand Effects. Competitors will then be split into teams and use the remaining hours to complete their work of art. This will be followed by judging and announcement of the winners. Open to all ages! This is also the last series of the Ultimate Island Summer Games. Awards for both events will take place at Noon.
URL:https://themobmom.com/event/sand-sculpture-competition/
LOCATION:East End Beach\, Dauphin Island
END:VEVENT
BEGIN:VEVENT
DTSTART;TZID=UTC:20250628T130000
DTEND;TZID=UTC:20250628T170000
DTSTAMP:20260424T053453
CREATED:20250626T152024Z
LAST-MODIFIED:20250626T152024Z
UID:11840-1751115600-1751130000@themobmom.com
SUMMARY:Oyster City Market
DESCRIPTION:Oyster City Vendor Market– Saturday\, June 28th | 1-5PM\nJoin us at Oyster City Brewing Company on Saturday\, June 28th\, from 1-5PM for an afternoon of shopping\, sipping\, and supporting local makers!\nOur Oyster City Vendor Market brings together a fantastic lineup of local artists\, crafters\, and small businesses\, offering everything from handmade goods to unique finds.\nEnjoy a cold beer while you browse\, meet the talented vendors behind the products\, and soak in the vibrant community atmosphere. Whether you’re looking for the perfect gift or just want to treat yourself\, there’s something for everyone!\n Great Beer |  Local Vendors |  Good Vibes\nFood Trucks:TBD\nMark your calendar and bring your friends—this is a market you won’t want to miss!\n**If you are interested in being a vendor- Please fill out the application here: https://form.jotform.com/…/june–oyster-city-vendor-market\n**BEWARE OF SCAMMERS- the ONLY point of contact you will EVER have for the Market will be Allyson Clements. If you have any questions or concerns\, please email me at allyson.clements@mbtw.beer
URL:https://themobmom.com/event/oyster-city-market-3/
LOCATION:Oyster City Mobile
ATTACH;FMTTYPE=image/jpeg:https://themobmom.com/wp-content/uploads/2025/06/oyster-city-market.jpg
END:VEVENT
BEGIN:VEVENT
DTSTART;TZID=UTC:20250628T150000
DTEND;TZID=UTC:20250628T210000
DTSTAMP:20260424T053453
CREATED:20250626T143639Z
LAST-MODIFIED:20250626T143639Z
UID:11814-1751122800-1751144400@themobmom.com
SUMMARY:OWA Live Summer Concert Series
DESCRIPTION:OWA Live summer concert series is back! Join us select Saturdays this summer on the OWA Island Amphitheater for a sizzling hot lineup of FREE live music! From heart-pounding rock anthems to soulful jazz melodies\, we’ve got an incredible lineup of diverse music genres that’ll have you dancing ’til dawn. \nRemember to arrive early and grab a cold beverage to go from your favorite Downtown OWA spot! Check out the full lineup below! \nMust be 21+ to consume alcohol. Please enjoy responsibly. \n\n\n\n\nLearn more about the OWA Live Dates\n\n\n\n\n\nJune 28\n\n3-4:30 pm: Smokey Otis\n5-6:30 pm: The Band Wanted\n7-9 pm: Thomas Cain\n\n\nJuly 26\n\n3-4:30 pm: Yeah\, Probably\n5-6:30 pm: Elise Taylor\n7-9 pm: Wes Loper\n\n\nAugust 30\n\n3-4:30 pm: AVINU\n5-6:30 pm: Chitlin’ Switch\n7-9 pm: Jenna McClelland
URL:https://themobmom.com/event/owa-live-summer-concert-series/
LOCATION:OWA Parks & Resort
ATTACH;FMTTYPE=image/jpeg:https://themobmom.com/wp-content/uploads/2025/06/Website-Metadata-OWA-Live-2025-1024x533-1.jpg
END:VEVENT
BEGIN:VEVENT
DTSTART;TZID=UTC:20250628T180000
DTEND;TZID=UTC:20250628T210000
DTSTAMP:20260424T053453
CREATED:20250626T145423Z
LAST-MODIFIED:20250626T145423Z
UID:11827-1751133600-1751144400@themobmom.com
SUMMARY:Summer Glow Party
DESCRIPTION:Join us for an unforgettable night at the Summer Glow Party! Celebrate summer with vibrant neon lights\, foam\, glow sticks\, and music that will keep you dancing from 6 pm to 9 pm on June 28th at 29001 Bass Pro Drive\, Spanish Fort\, AL. Hosted by Double DS Burger\, this event promises fun\, friends\, and fantastic vibes. Don’t miss out on the ultimate summer celebration!\nDon’t forget local vendors will be set up so let’s support all our local vendors . Shop to drop
URL:https://themobmom.com/event/summer-glow-party/
LOCATION:Double D’s Burgers\, Spanish Fort\, AL\, 36527
ATTACH;FMTTYPE=image/jpeg:https://themobmom.com/wp-content/uploads/2025/06/Double-D-Glow-Party.jpg
END:VEVENT
BEGIN:VEVENT
DTSTART;TZID=UTC:20250628T180000
DTEND;TZID=UTC:20250628T220000
DTSTAMP:20260424T053453
CREATED:20250626T153805Z
LAST-MODIFIED:20250626T153805Z
UID:11846-1751133600-1751148000@themobmom.com
SUMMARY:Mike's American Muscle Cars Drive-In Movie
DESCRIPTION:Saturday\, June 28\, 2025\, we invite our friends to a Drive-In movie experience at FMC in Fairhope\, AL- at Co Rd 34 and Hwy 181. Entry is FREE- And we will be collecting donations for our beneficiary\, Camp Seale Harris!Gates open at 6PM\, when we will be inviting our classic car friends to do a little “cruise-in”- where we will be holding a couple front rows for them- AND we encourage those that want to- dress in their vehicles era attire (50’s\, 60’s\, and 70’s)! We may even do a little “costume contest” for you- say\, some $$ for a prize?There will be a section for those who want to bring their blankets or folding chairs- and an undetermined amount of spaces for “in vehicle viewing”.ALL concession sales will benefit Camp Seale Harris\, Southeastern Juvenile T1 Diabetes Education Services- donations accepted at concession as well.For more information on Camp Seale Harris\, go to www.CampSealeHarris.orgMore information on the event coming soon!www.MikesMuscleCarShows.com
URL:https://themobmom.com/event/mikes-american-muscle-cars-drive-in-movie/
LOCATION:Family Ministries Center Fairhope
ATTACH;FMTTYPE=image/jpeg:https://themobmom.com/wp-content/uploads/2025/06/Drive-in.jpg
END:VEVENT
END:VCALENDAR