BEGIN:VCALENDAR
VERSION:2.0
PRODID:-//MOB Moms - ECPv6.15.1.1//NONSGML v1.0//EN
CALSCALE:GREGORIAN
METHOD:PUBLISH
X-WR-CALNAME:MOB Moms
X-ORIGINAL-URL:https://themobmom.com
X-WR-CALDESC:Events for MOB Moms
REFRESH-INTERVAL;VALUE=DURATION:PT1H
X-Robots-Tag:noindex
X-PUBLISHED-TTL:PT1H
BEGIN:VTIMEZONE
TZID:UTC
BEGIN:STANDARD
TZOFFSETFROM:+0000
TZOFFSETTO:+0000
TZNAME:UTC
DTSTART:20250101T000000
END:STANDARD
END:VTIMEZONE
BEGIN:VEVENT
DTSTART;TZID=UTC:20250602T090000
DTEND;TZID=UTC:20250728T150000
DTSTAMP:20260424T053436
CREATED:20250522T144538Z
LAST-MODIFIED:20250522T144538Z
UID:11252-1748854800-1753714800@themobmom.com
SUMMARY:Two Dolla Mondays
DESCRIPTION:Every Monday from 9am to 3pm enjoy $2 Bowling Games (price is per person / per game) and $2 shoes!\nWe are thinking Mondays should be deemed family day at Eastern Shore Lanes!\nFirst Come First Serve – No reservations
URL:https://themobmom.com/event/two-dolla-mondays/
LOCATION:Eastern Shore Lanes
ATTACH;FMTTYPE=image/jpeg:https://themobmom.com/wp-content/uploads/2025/05/497669524_1237671361702376_1685324287553650333_n.jpg
END:VEVENT
BEGIN:VEVENT
DTSTART;TZID=UTC:20250603T180000
DTEND;TZID=UTC:20250722T193000
DTSTAMP:20260424T053436
CREATED:20250522T151518Z
LAST-MODIFIED:20250522T151518Z
UID:11270-1748973600-1753212600@themobmom.com
SUMMARY:Mountain Bike Skills & Race Series - Daphne
DESCRIPTION:The Gulf Coast Youth Mountain Bike Association is hosting a fun and supportive weekly biking clinic for K-6th grade students. Weekly sessions beginning Tuesday\, June 3 for eight weeks; all for $50.\nJune: Skill-building sessions focused on the basics of trail ridingJuly: Short course races to practice what they’ve learned\nLet your child experience the fun of mountain biking while learning trail safety\, technique\, and teamwork!
URL:https://themobmom.com/event/mountain-bike-skills-race-series-daphne/
LOCATION:Daphne Sports Complex
ATTACH;FMTTYPE=image/jpeg:https://themobmom.com/wp-content/uploads/2025/05/494207033_1087972236688885_4763223912666161436_n.jpg
END:VEVENT
BEGIN:VEVENT
DTSTART;TZID=UTC:20250605T100000
DTEND;TZID=UTC:20250724T230000
DTSTAMP:20260424T053436
CREATED:20250522T152507Z
LAST-MODIFIED:20250522T152507Z
UID:11277-1749117600-1753398000@themobmom.com
SUMMARY:Summer Reading at Foley Public Library
DESCRIPTION:Every Thursday at Foley Public Library is a BIG deal for little ones! Join us at the Foley Civic Center for stories and surprises designed just for kids of all ages! Each week is a new adventure—don’t miss out!Thursdays10:00AMFOLEY CIVIC CENTERFREE! No registration needed
URL:https://themobmom.com/event/summer-reading-at-foley-public-library/
LOCATION:Foley Civic Center
ATTACH;FMTTYPE=image/jpeg:https://themobmom.com/wp-content/uploads/2025/05/494969815_695563172979701_4922448185245291738_n.jpg
END:VEVENT
BEGIN:VEVENT
DTSTART;VALUE=DATE:20250609
DTEND;VALUE=DATE:20250614
DTSTAMP:20260424T053436
CREATED:20250609T063008Z
LAST-MODIFIED:20250609T063008Z
UID:11596-1749427200-1749859199@themobmom.com
SUMMARY:Daphne Library Storytimes
DESCRIPTION:
URL:https://themobmom.com/event/daphne-library-storytimes/
LOCATION:Daphne Public Library\, Daphne\, Alabama\, 36526
ATTACH;FMTTYPE=image/jpeg:https://themobmom.com/wp-content/uploads/2025/06/daphne-library-storytimes.jpg
END:VEVENT
BEGIN:VEVENT
DTSTART;TZID=UTC:20250613T120000
DTEND;TZID=UTC:20250613T130000
DTSTAMP:20260424T053436
CREATED:20250612T145332Z
LAST-MODIFIED:20250612T145332Z
UID:11684-1749816000-1749819600@themobmom.com
SUMMARY:The Mama Village - Monthly Meetup
DESCRIPTION:The Mama Village is a FREE motherhood support group for mamas with babies aged 0-2.The group is facilitated by perinatal therapist Morgan Bradwell\, LICSW\, PMH-C of Village Therapy Collective & perinatal chiropractor Dr. Tiffany Jones\, DC of Liberation Chiropractic & Wellness.\nWe meet once a month on Fridays from 12-1pm at Redbar Espresso. Buying a coffee\, smoothie\, or lunch from Redbar is encouraged as a way of thanking them for freely offering us a space to meet. Pro tip – get to Redbar a few minutes early to place your order before their lunch rush!\nBabies welcome!! If you have a toddler\, we do suggest bringing some small activities for them to play with. But of course\, no judgment if you’d rather come solo and have a self-care hour without baby \n* Disclaimer – This group is not psychotherapy or chiropractic care\, nor is it a replacement for psychotherapy or chiropractic care. *
URL:https://themobmom.com/event/the-mama-village-monthly-meetup/
LOCATION:Redbar Espresso & Market LLC
ATTACH;FMTTYPE=image/jpeg:https://themobmom.com/wp-content/uploads/2025/04/mama-village-monthly-meet-up.jpg
END:VEVENT
BEGIN:VEVENT
DTSTART;TZID=UTC:20250613T130000
DTEND;TZID=UTC:20250613T140000
DTSTAMP:20260424T053436
CREATED:20250609T060230Z
LAST-MODIFIED:20250609T060230Z
UID:11574-1749819600-1749823200@themobmom.com
SUMMARY:Family Fun Friday
DESCRIPTION:Time with your family you can enjoy with us at the Moorer Branch! \nBring your family or friends to the Moorer Branch Library to join us in tabletop games\, puzzles\, and other family fun games every Friday. \nFor more information\, please email Moorer’s reference desk at mlmref@mplonline.org or 251-494-4140.
URL:https://themobmom.com/event/family-fun-friday/
LOCATION:Monte. L Moorer/Spring Hill Branch Library
ATTACH;FMTTYPE=image/png:https://themobmom.com/wp-content/uploads/2025/06/Family-Fun-Friday-LM-Calendar.png
END:VEVENT
BEGIN:VEVENT
DTSTART;TZID=UTC:20250613T133000
DTEND;TZID=UTC:20250613T163000
DTSTAMP:20260424T053436
CREATED:20250604T205726Z
LAST-MODIFIED:20250604T205726Z
UID:11411-1749821400-1749832200@themobmom.com
SUMMARY:Father's Day Make-N-Take
DESCRIPTION:Stop by the community room to make a special gift for the best joke-teller you know – DAD!
URL:https://themobmom.com/event/fathers-day-make-n-take/
LOCATION:Daphne Public Library\, Daphne\, Alabama\, 36526
ATTACH;FMTTYPE=image/jpeg:https://themobmom.com/wp-content/uploads/2025/06/502422779_732361402634756_2422590519517489769_n.jpg
END:VEVENT
BEGIN:VEVENT
DTSTART;TZID=UTC:20250613T150000
DTEND;TZID=UTC:20250613T170000
DTSTAMP:20260424T053436
CREATED:20250612T153140Z
LAST-MODIFIED:20250612T153140Z
UID:11696-1749826800-1749834000@themobmom.com
SUMMARY:Book Signing Party with Story Time & Live Character Drawing
DESCRIPTION:If you missed the first one\, now is your chance to come again! Scott and Savanna will be selling their book\, “Po the Penguin: Po Finds Out She’s Different” Friday June 13th at Mokas Coffee House in Saraland. Come see us to get a copy of the book\, hear the story read\, and have a live character drawing too. Grab a coffee\, a book\, and have a great time! See you then!
URL:https://themobmom.com/event/book-signing-party-with-story-time-live-character-drawing/
LOCATION:Moka’s Coffee House
END:VEVENT
BEGIN:VEVENT
DTSTART;TZID=UTC:20250613T170000
DTEND;TZID=UTC:20250613T200000
DTSTAMP:20260424T053436
CREATED:20250612T152547Z
LAST-MODIFIED:20250612T152547Z
UID:11692-1749834000-1749844800@themobmom.com
SUMMARY:Satsuma Meals & Wheels Food Trucks
DESCRIPTION:5+ food trucks food trucks food variety for everyoneHOLLY JOLLY SNOWCONESCUPS FOR A CURE- LEMONADESHUX YALL FIRE ROASTED CORNSOUTHERN SWIGS- DIRTY SODAS & LOADED POTATOESJOJO’S WINGSLUCKY COW – ICE CREAM SANDWICHES AND MORE!\nANY FOOD TRUCKS INTERESTED IN ATTENDING PLEASE CONTACT CITY HALL 251-675-1440
URL:https://themobmom.com/event/satsuma-meals-wheels-food-trucks/
LOCATION:5464 Old Hwy 43 Satsuma
ATTACH;FMTTYPE=image/jpeg:https://themobmom.com/wp-content/uploads/2025/06/wheels-and-meals.jpg
END:VEVENT
END:VCALENDAR