BEGIN:VCALENDAR
VERSION:2.0
PRODID:-//MOB Moms - ECPv6.15.1.1//NONSGML v1.0//EN
CALSCALE:GREGORIAN
METHOD:PUBLISH
X-WR-CALNAME:MOB Moms
X-ORIGINAL-URL:https://themobmom.com
X-WR-CALDESC:Events for MOB Moms
REFRESH-INTERVAL;VALUE=DURATION:PT1H
X-Robots-Tag:noindex
X-PUBLISHED-TTL:PT1H
BEGIN:VTIMEZONE
TZID:UTC
BEGIN:STANDARD
TZOFFSETFROM:+0000
TZOFFSETTO:+0000
TZNAME:UTC
DTSTART:20250101T000000
END:STANDARD
END:VTIMEZONE
BEGIN:VEVENT
DTSTART;TZID=UTC:20250527T180000
DTEND;TZID=UTC:20250527T210000
DTSTAMP:20260424T053435
CREATED:20250518T075305Z
LAST-MODIFIED:20250518T075305Z
UID:11181-1748368800-1748379600@themobmom.com
SUMMARY:Sunset Sounds at Portside
DESCRIPTION:Sunset Sounds at Portside \nDescription: Join us every Tuesday for Sunset Sounds at Portside\, where live music meets waterfront vibes! Enjoy an evening of great tunes featuring face painting\, the Reptile Bus\, Cornhole boards\, giant Jenga + so much more. You don’t want to miss the stunning sunset views from the beautiful green space. Grab a drink\, relax with friends\, and let the music set the mood. \nDate + Time: Tuesdays; May 27 – July 29 | 6-9 pm \nWhere: Portside on Main \nCost: FREE admission + parking; some activities cost $5-10 \nSchedule:  \n–              Kids’ Activities + DJ Matt: 6-9 pm \n–              SPECTRA Laser Light Experience: 8:30\, 9 + 9:30 pm \nLink: Learn More (FB Event Page)
URL:https://themobmom.com/event/sunset-sounds-at-portside/
LOCATION:The Wharf
ATTACH;FMTTYPE=image/jpeg:https://themobmom.com/wp-content/uploads/2025/05/sunset-sounds-at-portside.jpg
END:VEVENT
END:VCALENDAR