BEGIN:VCALENDAR
VERSION:2.0
PRODID:-//MOB Moms - ECPv6.15.1.1//NONSGML v1.0//EN
CALSCALE:GREGORIAN
METHOD:PUBLISH
X-WR-CALNAME:MOB Moms
X-ORIGINAL-URL:https://themobmom.com
X-WR-CALDESC:Events for MOB Moms
REFRESH-INTERVAL;VALUE=DURATION:PT1H
X-Robots-Tag:noindex
X-PUBLISHED-TTL:PT1H
BEGIN:VTIMEZONE
TZID:UTC
BEGIN:STANDARD
TZOFFSETFROM:+0000
TZOFFSETTO:+0000
TZNAME:UTC
DTSTART:20250101T000000
END:STANDARD
END:VTIMEZONE
BEGIN:VEVENT
DTSTART;TZID=UTC:20250523T100000
DTEND;TZID=UTC:20250525T170000
DTSTAMP:20260424T070428
CREATED:20250513T133932Z
LAST-MODIFIED:20250513T133932Z
UID:10997-1747994400-1748192400@themobmom.com
SUMMARY:Memorial Day Weekend
DESCRIPTION:Come celebrate Memorial Day Weekend at OWA Parks & Resort! We’re honoring our nation’s heroes and kicking off summer with three days of star-spangled fun\, family-friendly activities\, and exciting entertainment.\nStarting Friday\, May 23\, guests can enjoy a bubble truck party\, patriotic kids activities including a historical scavenger hunt\, lawn games\, and more. Coca-Cola will also be on site for a special Share a Coke activation—get a personalized Coke while supplies last! Uncle Sam will also be roaming Downtown for memorable photo ops!\nOn Saturday\, enjoy patriotic kids crafts\, the Star Spangled Acrobatic Show by Luminary Entertainment\, and live music on the Island Stage featuring Howling Grace and Edgewood Heavy. The evening ends with a patriotic fireworks show at 8:50 Ppm!\nWrap up the weekend on Sunday with a Boat Making Contest\, more games and inflatables\, and a special Dive-In Movie Night* at Tropic Falls’ Big Water Bay featuring Stuart Little—float in the wave pool while you watch!\nWhether you’re from around the corner or just in town for the weekend\, OWA is the place to be for Memorial Day fun\, family memories\, and summer vibes.\n\n* A General Admission ticket is required to watch the movie in Tropic Falls. Purchase your Tropic Falls General Admission Tickets here: https://visitowa.com/tickets\nSchedule of Events\nFriday\, May 23· 2-5 pm – Bubble Truck in Downtown OWA· 2-until – Share a Coke! Grab your personalized Coke can at the Splashpad while supplies last.· 2-8 pm – Free Kids activities throughout Downtown OWA· 2-8 pm – Uncle Sam Meet & Greet photo ops in Downtown OWA\nSaturday\, May 24· 2-3:30 pm – Luminary Entertainment Star Spangled Show at the Native Treasures Alcove.· 2-4:30 pm – Free Kids Crafts in Downtown OWA.· 3-4:30 pm – Live Music from The BIG Reveal on OWA Island· 5-6:30 pm – Live Music from Howling Grace Band on OWA Island· 7-8:50 pm – Live Music from Edgewood Heavy on OWA Island· 8:50-9 pm – Fireworks viewable throughout the property\nSunday\, May 25· 2-5 pm – Free Kids Activities at the Downtown OWA· 2-6 pm – Lawn Games on the Island· 2-6 pm – 40ft Patriot Challenge Obstacle Course at the Native Treasures Alcove· 5pm-until – Dive-in Movie night* at Big Water Bay. Guests can enjoy Stuart Little (1999 | PG).
URL:https://themobmom.com/event/memorial-day-weekend/
LOCATION:Downtown OWA
ATTACH;FMTTYPE=image/jpeg:https://themobmom.com/wp-content/uploads/2025/05/495126888_994911199492890_7086926490571206075_n.jpg
END:VEVENT
BEGIN:VEVENT
DTSTART;VALUE=DATE:20250524
DTEND;VALUE=DATE:20250526
DTSTAMP:20260424T070428
CREATED:20250523T141727Z
LAST-MODIFIED:20250523T141727Z
UID:11283-1748044800-1748217599@themobmom.com
SUMMARY:2nd Annual Frand Bay Food Truck Festival & Family Fun Day
DESCRIPTION:Cane Brew & Frank n Lola’s invite you to join us and over 30 food trucks and craft vendors at the Second Annual Grand Bay Food Truck Festival & Family Fun Day! Featuring food and fun for all ages!Join us 6p Saturday Night for a spectacular performance by the one and only RED AND THE REVELERS\nWe are thrilled to announce the STARS  of the 2nd Annual Grand Bay Food Truck Festival & Family Fun Day\nSouthern Bay Cruisers and Classics Car Show Saturday 5/24/25\nWags N Whiskers Pet Adoption Saturday & Sunday\nFood Trucks\nHolly Jolly SnowconesBurger BoxShucky D’s ConcessionLa TaqueriaLa FruteriaMrRooster MxLil Donut FactoryJojo’s WingsTwist SushiFrank N Lola’sCoastal SnowEiland’s CreameryM & M ConcessionsTater BinDaughtry’s ConcessionFrankie Faye’s Good Eatin’Meatbawl’s FoodTruckBoogie ChicksB & T Island RootsShux Y’all Fire Roasted CornSmokin’ GringosGuys GrillSemmes House of PizzaDixie DelightMamie & Pop’s Snowcones and MoreLovi’s SeafoodFood Truck FrenzyThe Shrimp Box\n\nMarket Vendors\nCoastal CoolersLove by JMC-4 Cattle Co.Sam’s Club4 Hearts Freeze Dried SnacksK & B DelightsGranny Pryor’s Pound CakeSweet Tooth ConfectionsMK FreshiesHoney Of The HillBeads By Sam251treatsSweet Peony PrintsLife’s LemonsClary Sage ApothecaryGrand Bay Auto SupplySouth 45 DesignsShop The Season BoutiqueSo Jam DeliciousGalleria Jewelry & LoanAmerican Legion Post 250 – Wreaths Across AmericaPirates PicklesCoastal Coolers Gourmet SodaT-MobileAlchemist’s Hot SauceMisC CreationsThe Cup Cake LadyCane Brew \nSee less
URL:https://themobmom.com/event/2nd-annual-frand-bay-food-truck-festival-family-fun-day/
LOCATION:7335-7571 Grand Bay Wilmer Road
ATTACH;FMTTYPE=image/jpeg:https://themobmom.com/wp-content/uploads/2025/05/food-truck-festival.jpg
END:VEVENT
BEGIN:VEVENT
DTSTART;TZID=UTC:20250524T130000
DTEND;TZID=UTC:20250525T190000
DTSTAMP:20260424T070428
CREATED:20250312T141917Z
LAST-MODIFIED:20250312T141917Z
UID:10159-1748091600-1748199600@themobmom.com
SUMMARY:Gulf Coast Caribbean Carnival 2025
DESCRIPTION:The Caribbean Culture on the Gulf Coast will be celebrated. With the backing of the backing of Mobile Parks and Recreation\, Level Up Entertainment\, and the Gulf Coast Caribbean Carnival Association\, the streets of Downtown Mobile will be the scene of beautiful caribbean costumes\, music\, and good clean family fun.\nA parade through downtown will end at Mardi Gras Park\, where Mobile County Parks and Recreation Department has approved the FIRST EVER Gulf Coast Caribbean Carnival Festival. Its a festival celebrating the culture near and dear to our hearts. So come one come all May 25th\, 2025 1pm. There will be vendors\, food\, music\, performances and good family fun!!!
URL:https://themobmom.com/event/gulf-coast-caribbean-carnival-2025/
LOCATION:Mardi Gras Park
ATTACH;FMTTYPE=image/jpeg:https://themobmom.com/wp-content/uploads/2025/03/449947472_988178523314406_258653244400945431_n.jpg
END:VEVENT
BEGIN:VEVENT
DTSTART;VALUE=DATE:20250525
DTEND;VALUE=DATE:20250526
DTSTAMP:20260424T070428
CREATED:20250525T162403Z
LAST-MODIFIED:20250525T162403Z
UID:11317-1748131200-1748217599@themobmom.com
SUMMARY:Hooves & Heroes Free Family Day
DESCRIPTION: Hooves & Heroes Farm Day! \nJoin us this Memorial Day to honor the brave men and women who sacrificed for our freedom\, with a family-friendly celebration of remembrance\, horses\, and farm fun.\nTime: 11am-4:00pmEvent: FREE to enter and enjoy our farm!\n Horse Rides $5.00/Each\nMaynard Family FarmsWill be setup at our event with their mobile Petting Zoo!\nPetting Zoo Time: 1:00 – 4:00Tickets: $5.00 Each\nInflatablesBucks Party Rentals$8.00 Unlimited Jump Bands\nMULTIPLE SHOPPING VENDORS\nFree Parking
URL:https://themobmom.com/event/hooves-heroes-free-family-day/
LOCATION:14537 Hwy 59 N\, Foley Alabama
ATTACH;FMTTYPE=image/jpeg:https://themobmom.com/wp-content/uploads/2025/05/hooves-Heroes.jpg
END:VEVENT
BEGIN:VEVENT
DTSTART;VALUE=DATE:20250525
DTEND;VALUE=DATE:20250527
DTSTAMP:20260424T070428
CREATED:20250525T161452Z
LAST-MODIFIED:20250525T161452Z
UID:11313-1748131200-1748303999@themobmom.com
SUMMARY:Memorial Weekend Celebration @ The Gulf
DESCRIPTION:🇺🇸 MEMORIAL WEEKEND CELEBRATION @ THE GULF 🇺🇸\nExperience Memorial Day Weekend at The Gulf—where cold cocktails\, Gulf Coast eats\, and sunshine vibes come together for the perfect long weekend. ☀️🍤🍹\n🎆 Fireworks – Friday at dusk\n🔱 Aperol Sundays with Live DJ – Sunday\, 5–9 PM\n✨ All-Day Fun – Monday\, 11 AM–9 PM\nKick off summer with us by the water. Whether you’re here with family and friends or just looking to relax\, we’ve got the Gulf Coast eats\, refreshing cocktails\, a live DJ\, and a view to make it unforgettable.\n👨‍👩‍👧‍👦 All ages welcome\n🍽️ Full menu served daily\n🍹 Handcrafted cocktails + laid-back vibes\n🏖️ Open-air seating\, Gulf breezes & room to roam\nNo tickets\, no fuss—just good food\, great views\, and the energy only The Gulf can serve up.\nSee you this weekend!
URL:https://themobmom.com/event/memorial-weekend-celebration-the-gulf/
LOCATION:The Gulf Orange Beach
ATTACH;FMTTYPE=image/jpeg:https://themobmom.com/wp-content/uploads/2025/05/the-gulf-memorial-day.jpg
END:VEVENT
END:VCALENDAR