BEGIN:VCALENDAR
VERSION:2.0
PRODID:-//MOB Moms - ECPv6.15.1.1//NONSGML v1.0//EN
CALSCALE:GREGORIAN
METHOD:PUBLISH
X-WR-CALNAME:MOB Moms
X-ORIGINAL-URL:https://themobmom.com
X-WR-CALDESC:Events for MOB Moms
REFRESH-INTERVAL;VALUE=DURATION:PT1H
X-Robots-Tag:noindex
X-PUBLISHED-TTL:PT1H
BEGIN:VTIMEZONE
TZID:UTC
BEGIN:STANDARD
TZOFFSETFROM:+0000
TZOFFSETTO:+0000
TZNAME:UTC
DTSTART:20250101T000000
END:STANDARD
END:VTIMEZONE
BEGIN:VEVENT
DTSTART;TZID=UTC:20250523T100000
DTEND;TZID=UTC:20250525T170000
DTSTAMP:20260424T070429
CREATED:20250513T133932Z
LAST-MODIFIED:20250513T133932Z
UID:10997-1747994400-1748192400@themobmom.com
SUMMARY:Memorial Day Weekend
DESCRIPTION:Come celebrate Memorial Day Weekend at OWA Parks & Resort! We’re honoring our nation’s heroes and kicking off summer with three days of star-spangled fun\, family-friendly activities\, and exciting entertainment.\nStarting Friday\, May 23\, guests can enjoy a bubble truck party\, patriotic kids activities including a historical scavenger hunt\, lawn games\, and more. Coca-Cola will also be on site for a special Share a Coke activation—get a personalized Coke while supplies last! Uncle Sam will also be roaming Downtown for memorable photo ops!\nOn Saturday\, enjoy patriotic kids crafts\, the Star Spangled Acrobatic Show by Luminary Entertainment\, and live music on the Island Stage featuring Howling Grace and Edgewood Heavy. The evening ends with a patriotic fireworks show at 8:50 Ppm!\nWrap up the weekend on Sunday with a Boat Making Contest\, more games and inflatables\, and a special Dive-In Movie Night* at Tropic Falls’ Big Water Bay featuring Stuart Little—float in the wave pool while you watch!\nWhether you’re from around the corner or just in town for the weekend\, OWA is the place to be for Memorial Day fun\, family memories\, and summer vibes.\n\n* A General Admission ticket is required to watch the movie in Tropic Falls. Purchase your Tropic Falls General Admission Tickets here: https://visitowa.com/tickets\nSchedule of Events\nFriday\, May 23· 2-5 pm – Bubble Truck in Downtown OWA· 2-until – Share a Coke! Grab your personalized Coke can at the Splashpad while supplies last.· 2-8 pm – Free Kids activities throughout Downtown OWA· 2-8 pm – Uncle Sam Meet & Greet photo ops in Downtown OWA\nSaturday\, May 24· 2-3:30 pm – Luminary Entertainment Star Spangled Show at the Native Treasures Alcove.· 2-4:30 pm – Free Kids Crafts in Downtown OWA.· 3-4:30 pm – Live Music from The BIG Reveal on OWA Island· 5-6:30 pm – Live Music from Howling Grace Band on OWA Island· 7-8:50 pm – Live Music from Edgewood Heavy on OWA Island· 8:50-9 pm – Fireworks viewable throughout the property\nSunday\, May 25· 2-5 pm – Free Kids Activities at the Downtown OWA· 2-6 pm – Lawn Games on the Island· 2-6 pm – 40ft Patriot Challenge Obstacle Course at the Native Treasures Alcove· 5pm-until – Dive-in Movie night* at Big Water Bay. Guests can enjoy Stuart Little (1999 | PG).
URL:https://themobmom.com/event/memorial-day-weekend/
LOCATION:Downtown OWA
ATTACH;FMTTYPE=image/jpeg:https://themobmom.com/wp-content/uploads/2025/05/495126888_994911199492890_7086926490571206075_n.jpg
END:VEVENT
BEGIN:VEVENT
DTSTART;VALUE=DATE:20250524
DTEND;VALUE=DATE:20250525
DTSTAMP:20260424T070429
CREATED:20250523T142137Z
LAST-MODIFIED:20250523T142137Z
UID:11287-1748044800-1748131199@themobmom.com
SUMMARY:Puppy Palooza at Eastern Shore Centre
DESCRIPTION:It’s time to {PAW}TY\nJoin us on Saturday\, May 24 from 11 AM – 2 PM on The Green near California Dreaming for the {first} Puppy Palooza at Eastern Shore Centre!\nThis event will feature live music\, pet adoptions\, a fido marketplace\, doggy activities\, K9 splash zone\, pop-up + retailer pop-ups\, puppy palooza SWAG\, giveaways\, + MORE! There is something for the whole family\, two legged and four legged alike! \nPuppy Palooza benefits our friends at the Baldwin Humane Society! \nInterested in being a vendor? Contact Sidney Carol at scbarnhardt@crawfordsq.com!
URL:https://themobmom.com/event/puppy-palooza-at-eastern-shore-centre/
LOCATION:30500 State Hwy 181 Suite 414\, Spanish Fort\, AL
ATTACH;FMTTYPE=image/jpeg:https://themobmom.com/wp-content/uploads/2025/05/puppy-palooza.jpg
END:VEVENT
BEGIN:VEVENT
DTSTART;VALUE=DATE:20250524
DTEND;VALUE=DATE:20250526
DTSTAMP:20260424T070429
CREATED:20250523T141727Z
LAST-MODIFIED:20250523T141727Z
UID:11283-1748044800-1748217599@themobmom.com
SUMMARY:2nd Annual Frand Bay Food Truck Festival & Family Fun Day
DESCRIPTION:Cane Brew & Frank n Lola’s invite you to join us and over 30 food trucks and craft vendors at the Second Annual Grand Bay Food Truck Festival & Family Fun Day! Featuring food and fun for all ages!Join us 6p Saturday Night for a spectacular performance by the one and only RED AND THE REVELERS\nWe are thrilled to announce the STARS  of the 2nd Annual Grand Bay Food Truck Festival & Family Fun Day\nSouthern Bay Cruisers and Classics Car Show Saturday 5/24/25\nWags N Whiskers Pet Adoption Saturday & Sunday\nFood Trucks\nHolly Jolly SnowconesBurger BoxShucky D’s ConcessionLa TaqueriaLa FruteriaMrRooster MxLil Donut FactoryJojo’s WingsTwist SushiFrank N Lola’sCoastal SnowEiland’s CreameryM & M ConcessionsTater BinDaughtry’s ConcessionFrankie Faye’s Good Eatin’Meatbawl’s FoodTruckBoogie ChicksB & T Island RootsShux Y’all Fire Roasted CornSmokin’ GringosGuys GrillSemmes House of PizzaDixie DelightMamie & Pop’s Snowcones and MoreLovi’s SeafoodFood Truck FrenzyThe Shrimp Box\n\nMarket Vendors\nCoastal CoolersLove by JMC-4 Cattle Co.Sam’s Club4 Hearts Freeze Dried SnacksK & B DelightsGranny Pryor’s Pound CakeSweet Tooth ConfectionsMK FreshiesHoney Of The HillBeads By Sam251treatsSweet Peony PrintsLife’s LemonsClary Sage ApothecaryGrand Bay Auto SupplySouth 45 DesignsShop The Season BoutiqueSo Jam DeliciousGalleria Jewelry & LoanAmerican Legion Post 250 – Wreaths Across AmericaPirates PicklesCoastal Coolers Gourmet SodaT-MobileAlchemist’s Hot SauceMisC CreationsThe Cup Cake LadyCane Brew \nSee less
URL:https://themobmom.com/event/2nd-annual-frand-bay-food-truck-festival-family-fun-day/
LOCATION:7335-7571 Grand Bay Wilmer Road
ATTACH;FMTTYPE=image/jpeg:https://themobmom.com/wp-content/uploads/2025/05/food-truck-festival.jpg
END:VEVENT
BEGIN:VEVENT
DTSTART;TZID=UTC:20250524T073000
DTEND;TZID=UTC:20250524T120000
DTSTAMP:20260424T070429
CREATED:20250518T080704Z
LAST-MODIFIED:20250518T080704Z
UID:11192-1748071800-1748088000@themobmom.com
SUMMARY:Spring/Summer Market in the Park
DESCRIPTION:Shop locally grown\, locally produced and handmade items at Market in the Park! \nThis spring/summer\, Market in the Park will run every Saturday from April 26 through June 28. Explore a wide variety of fresh\, locally-grown produce\, artisanal goods\, and handcrafted items from local vendors while enjoying live entertainment in Cathedral Square.  We’re proud to support our community with a selection of vendors who accept SNAP benefits\, making fresh\, healthy options accessible to all.\nEvery Saturday\, the market will open at Cathedral Square at 7:30 a.m. and close at noon.\nLearn more and register to become a vendor at www.cityofmobile.org/events!
URL:https://themobmom.com/event/spring-summer-market-in-the-park-5/
LOCATION:Cathedral Square\, Mobile\, Alabama
ATTACH;FMTTYPE=image/jpeg:https://themobmom.com/wp-content/uploads/2025/05/market-in-the-park.jpg
END:VEVENT
BEGIN:VEVENT
DTSTART;TZID=UTC:20250524T090000
DTEND;TZID=UTC:20250524T110000
DTSTAMP:20260424T070429
CREATED:20250523T143544Z
LAST-MODIFIED:20250523T143544Z
UID:11296-1748077200-1748084400@themobmom.com
SUMMARY:STREAM Saturday: Kinesiology
DESCRIPTION:Registration is open for our next STREAM Saturday event\, happening Saturday\, May 24! This time we are partnering with MPRD Fitness and the Gulf Coast Fitness Palooza to present  Kinesiology: The Science of Movement !\nHave you ever wondered how muscles work or why some people run faster than others?\nYoung “STREAMers” are invited to Mardi Gras Park where they will explore how muscles and bones work together by dissecting frog specimens and uncovering the secrets of motion.  They will also be able to roll up their sleeves and build their very own model arm to see biomechanics in action! \nCome out to learn the science behind every step\, jump and stretch! \nLimited spots are available so be sure to sign up for this  event today!\nhttps://mprd.recdesk.com/Community/Program/Detail…\n*Please note that pre-registration IS required. There will be no on-site registration for this event.*  The rain location will be James Seals Community Center\, located at 540 Texas Street.
URL:https://themobmom.com/event/stream-saturday-kinesiology/
LOCATION:Mardi Gras Park
ATTACH;FMTTYPE=image/jpeg:https://themobmom.com/wp-content/uploads/2025/05/stream-saturday.jpg
END:VEVENT
BEGIN:VEVENT
DTSTART;TZID=UTC:20250524T093500
DTEND;TZID=UTC:20250524T110500
DTSTAMP:20260424T070429
CREATED:20250515T222739Z
LAST-MODIFIED:20250515T222739Z
UID:11030-1748079300-1748084700@themobmom.com
SUMMARY:Doughnut and Juice Jump!
DESCRIPTION:Visit us\, get wiggles out\, and enjoy your weekend! $13 + tax per child. Price includes a Krispy Kreme doughnut and a juice for the kids! All pre paid spaces are NON REFUNDABLE and NON TRANSFERABLE to another day/time
URL:https://themobmom.com/event/doughnut-and-juice-jump/
LOCATION:Pump it Up Mobile
END:VEVENT
BEGIN:VEVENT
DTSTART;TZID=UTC:20250524T100000
DTEND;TZID=UTC:20250524T110000
DTSTAMP:20260424T070429
CREATED:20250518T062226Z
LAST-MODIFIED:20250518T062226Z
UID:11135-1748080800-1748084400@themobmom.com
SUMMARY:Saturday Story Time & Craft
DESCRIPTION:Event Details\n\nOur Saturday Story Times are for all ages. Bring the family and enjoy some songs\, a book\, and a craft!
URL:https://themobmom.com/event/saturday-story-time-craft-2/
LOCATION:Foley Public Library
END:VEVENT
BEGIN:VEVENT
DTSTART;TZID=UTC:20250524T100000
DTEND;TZID=UTC:20250524T120000
DTSTAMP:20260424T070429
CREATED:20250518T060437Z
LAST-MODIFIED:20250518T060437Z
UID:11113-1748080800-1748088000@themobmom.com
SUMMARY:Saturday Anime Hangout
DESCRIPTION:Welcome teens to the world of anime and manga at Semmes Regional Library! \nJoin us every month in the meeting room for anime movies and shows\, games\, manga and more. Teens ages 12-18 welcome.
URL:https://themobmom.com/event/saturday-anime-hangout/
LOCATION:Semmes Regional Library
END:VEVENT
BEGIN:VEVENT
DTSTART;TZID=UTC:20250524T130000
DTEND;TZID=UTC:20250525T190000
DTSTAMP:20260424T070429
CREATED:20250312T141917Z
LAST-MODIFIED:20250312T141917Z
UID:10159-1748091600-1748199600@themobmom.com
SUMMARY:Gulf Coast Caribbean Carnival 2025
DESCRIPTION:The Caribbean Culture on the Gulf Coast will be celebrated. With the backing of the backing of Mobile Parks and Recreation\, Level Up Entertainment\, and the Gulf Coast Caribbean Carnival Association\, the streets of Downtown Mobile will be the scene of beautiful caribbean costumes\, music\, and good clean family fun.\nA parade through downtown will end at Mardi Gras Park\, where Mobile County Parks and Recreation Department has approved the FIRST EVER Gulf Coast Caribbean Carnival Festival. Its a festival celebrating the culture near and dear to our hearts. So come one come all May 25th\, 2025 1pm. There will be vendors\, food\, music\, performances and good family fun!!!
URL:https://themobmom.com/event/gulf-coast-caribbean-carnival-2025/
LOCATION:Mardi Gras Park
ATTACH;FMTTYPE=image/jpeg:https://themobmom.com/wp-content/uploads/2025/03/449947472_988178523314406_258653244400945431_n.jpg
END:VEVENT
BEGIN:VEVENT
DTSTART;TZID=UTC:20250524T150000
DTEND;TZID=UTC:20250524T153000
DTSTAMP:20260424T070429
CREATED:20250518T060812Z
LAST-MODIFIED:20250518T060812Z
UID:11120-1748098800-1748100600@themobmom.com
SUMMARY:Saturday Crafternoon (Collaborative Art Project)
DESCRIPTION:Let’s enjoy making crafts together! \nJoin us every Saturday at the Theodore Oaks Branch to get creative and make a fun craft. \n\n\n\n\nThis Saturday\, we will host an exciting collaborative art project to decorate the library for summer! Join us and let’s create something amazing together. \nThis program is ideal for children ages 6 – 11\, but all ages are welcome. Supplies and space are limited though\, and participation is on a first come\, first serve basis. For more information\, please email theocir@mplonline.org or call (251) 662-7674. \n\nDisclaimer(s)\n\n\n\nFood Allergies\n\nWe cannot guarantee that food served at this program has not come into contact with tree nuts\, soy or other allergens.
URL:https://themobmom.com/event/saturday-crafternoon-collaborative-art-project/
LOCATION:Mobile Public Library- Theodore Oaks Branch
END:VEVENT
BEGIN:VEVENT
DTSTART;TZID=UTC:20250524T150000
DTEND;TZID=UTC:20250524T163000
DTSTAMP:20260424T070429
CREATED:20250518T060619Z
LAST-MODIFIED:20250518T060619Z
UID:11115-1748098800-1748104200@themobmom.com
SUMMARY:Summer Movie Daze (How to Train Your Dragon)
DESCRIPTION:Beat the heat\, bring in the family to enjoy a movie and popcorn at the Parkway Branch! \nBring the family and Join us as we watch the feature film How to Train Your Dragon (2010) PG | 1hr. 30 mins. A misfit Viking teen befriends a dragon\, despite his tribe’s tradition of dragon slaying\, in this adaptation of the children’s fantasy book by Cressida Cowell. \n  \n  \n\nDisclaimer(s)\n\n\n\nFood Allergies\n\nWe cannot guarantee that food served at this program has not come into contact with tree nuts\, soy or other allergens.
URL:https://themobmom.com/event/summer-movie-daze-how-to-train-your-dragon/
LOCATION:Parkway Branch
END:VEVENT
BEGIN:VEVENT
DTSTART;TZID=UTC:20250524T190000
DTEND;TZID=UTC:20250524T200000
DTSTAMP:20260424T070429
CREATED:20250523T143017Z
LAST-MODIFIED:20250523T143017Z
UID:11293-1748113200-1748116800@themobmom.com
SUMMARY:Free Memorial Day Concert
DESCRIPTION:Come join us for an evening of music honoring those who have given the ultimate sacrifice for our country. Pull up a lawn chair or blanket and enjoy the fabulous music performed by our all volunteer band. As always\, ALL concerts are FREE!
URL:https://themobmom.com/event/free-memorial-day-concert/
LOCATION:Medal of Honor Park
ATTACH;FMTTYPE=image/jpeg:https://themobmom.com/wp-content/uploads/2025/05/memorial-day-concert.jpg
END:VEVENT
BEGIN:VEVENT
DTSTART;TZID=UTC:20250524T200000
DTEND;TZID=UTC:20250524T220000
DTSTAMP:20260424T070429
CREATED:20250523T142646Z
LAST-MODIFIED:20250523T142646Z
UID:11290-1748116800-1748124000@themobmom.com
SUMMARY:Breakthrough Teens Glow in the Dark Party
DESCRIPTION:Calling all teens! What better way to kickoff the summer than a pool party? Join Breakthrough Teens for an unforgettable night at their Glow in the Dark Pool Party\, taking place Saturday\, May 24 at the Hillsdale Community Center! \nThe fun begins at 8:00 p.m. Enjoy great food from food trucks\, groove to the beat with awesome music\, and get ready for games that will light up the night! \nDon’t miss out on the ultimate summer kickoff!  Tell your friends and turn your post notifications on\, and get ready to make memories that will shine all summer long!
URL:https://themobmom.com/event/breakthrough-teens-glow-in-the-dark-party/
LOCATION:Hillsdale Community Center & Park
ATTACH;FMTTYPE=image/jpeg:https://themobmom.com/wp-content/uploads/2025/05/glow-in-the-dark-party.jpg
END:VEVENT
END:VCALENDAR