BEGIN:VCALENDAR
VERSION:2.0
PRODID:-//MOB Moms - ECPv6.15.1.1//NONSGML v1.0//EN
CALSCALE:GREGORIAN
METHOD:PUBLISH
X-ORIGINAL-URL:https://themobmom.com
X-WR-CALDESC:Events for MOB Moms
REFRESH-INTERVAL;VALUE=DURATION:PT1H
X-Robots-Tag:noindex
X-PUBLISHED-TTL:PT1H
BEGIN:VTIMEZONE
TZID:UTC
BEGIN:STANDARD
TZOFFSETFROM:+0000
TZOFFSETTO:+0000
TZNAME:UTC
DTSTART:20250101T000000
END:STANDARD
END:VTIMEZONE
BEGIN:VEVENT
DTSTART;TZID=UTC:20250521T100000
DTEND;TZID=UTC:20250521T103000
DTSTAMP:20260424T070441
CREATED:20250518T052507Z
LAST-MODIFIED:20250518T052507Z
UID:11074-1747821600-1747823400@themobmom.com
SUMMARY:Good Listener Storytime at Moorer
DESCRIPTION:Join us at the Moorer Branch for stories\, songs\, and fun! \nEarly reading ignites creativity\, sparks curiosity\, and stimulates the imagination in young children. This program is designed to help promote their passion for learning.
URL:https://themobmom.com/event/good-listener-storytime-at-moorer-3/
LOCATION:Monte. L Moorer/Spring Hill Branch Library
END:VEVENT
BEGIN:VEVENT
DTSTART;TZID=UTC:20250521T100000
DTEND;TZID=UTC:20250521T103000
DTSTAMP:20260424T070441
CREATED:20250518T052958Z
LAST-MODIFIED:20250518T052958Z
UID:11079-1747821600-1747823400@themobmom.com
SUMMARY:Wonderful Wednesday Storytime at Theodore
DESCRIPTION:Join us for stories and songs and lots of fun!  \nStorytime’s act as an integral part of early literacy education by introducing young children to books\, rhymes\, music\, and more. This story time event is designed with preschool aged children in mind\, but all ages are welcome! \nSpace is limited; first come – first served. For more information\, please call (251)662-9676 or email the Theodore Oaks Circulation Desk at theocir@mplonline.org.
URL:https://themobmom.com/event/wonderful-wednesday-storytime-at-theodore-2/
LOCATION:Mobile Public Library- Theodore Oaks Branch
END:VEVENT
BEGIN:VEVENT
DTSTART;TZID=UTC:20250521T100000
DTEND;TZID=UTC:20250521T103000
DTSTAMP:20260424T070441
CREATED:20250518T054103Z
LAST-MODIFIED:20250518T054103Z
UID:11091-1747821600-1747823400@themobmom.com
SUMMARY:Wonderful Wednesday Storytime at Theodore
DESCRIPTION:Join us for stories and songs and lots of fun!  \nStorytime’s act as an integral part of early literacy education by introducing young children to books\, rhymes\, music\, and more. This story time event is designed with preschool aged children in mind\, but all ages are welcome! \nSpace is limited; first come – first served. For more information\, please call (251)662-9676 or email the Theodore Oaks Circulation Desk at theocir@mplonline.org.
URL:https://themobmom.com/event/wonderful-wednesday-storytime-at-theodore-3/
LOCATION:Mobile Public Library- Theodore Oaks Branch
END:VEVENT
BEGIN:VEVENT
DTSTART;TZID=UTC:20250521T100000
DTEND;TZID=UTC:20250521T103000
DTSTAMP:20260424T070441
CREATED:20250518T054252Z
LAST-MODIFIED:20250518T054252Z
UID:11093-1747821600-1747823400@themobmom.com
SUMMARY:Shake\, Rattle\, & Read Storytime at West
DESCRIPTION:Join us in the Meeting Room to enjoy books and a whole lot of music and grooving! \nEnjoy meeting other parents and their little ones and make new friends. These activities are designed to stimulate your child’s early literacy skills\, and there will be a whole lot of shakin’ going on!
URL:https://themobmom.com/event/shake-rattle-read-storytime-at-west-4/
LOCATION:West Regional Library
END:VEVENT
BEGIN:VEVENT
DTSTART;TZID=UTC:20250521T100000
DTEND;TZID=UTC:20250521T110000
DTSTAMP:20260424T070441
CREATED:20250518T052624Z
LAST-MODIFIED:20250518T052624Z
UID:11076-1747821600-1747825200@themobmom.com
SUMMARY:Tales & Tunes with Mrs. Tori
DESCRIPTION:Let’s listen while moving & grooving in our fun storytime! \nJoin Mrs. Tori for an interactive session of storytelling\, singing\, and using egg shakers or scarves. We will also be making a craft. \nIdeal for ages 0-12.
URL:https://themobmom.com/event/tales-tunes-with-mrs-tori-2/
LOCATION:Saraland Public Library
END:VEVENT
BEGIN:VEVENT
DTSTART;TZID=UTC:20250521T100000
DTEND;TZID=UTC:20250521T110000
DTSTAMP:20260424T070441
CREATED:20250518T061724Z
LAST-MODIFIED:20250518T061724Z
UID:11129-1747821600-1747825200@themobmom.com
SUMMARY:Preschool Story Time & Craft
DESCRIPTION:Event Details\n\nIf your kids love a craft the Wednesday Preschool Story Time is the one for your family. Wednesdays are extra fun because who doesn’t love songs\, books\, crafts\, and time to play with friends?! Join us Wednesday mornings at 10am.
URL:https://themobmom.com/event/preschool-story-time-craft/
LOCATION:Foley Public Library
END:VEVENT
BEGIN:VEVENT
DTSTART;TZID=UTC:20250521T103000
DTEND;TZID=UTC:20250521T110000
DTSTAMP:20260424T070441
CREATED:20250518T053948Z
LAST-MODIFIED:20250518T053948Z
UID:11089-1747823400-1747825200@themobmom.com
SUMMARY:Good Listeners Storytime at Semmes
DESCRIPTION:Every Wednesday! \nJoin us in the Semmes meeting room for fun storytime\, songs\, movements and crafts. This half-hour program is designed for children ages 3-6 and will help ignite their creativity\, spark curiosity\, and stimulate their imaginations! \nFor more information\, please call 251-494-4935 or email Callie Kelley at ckelley@mplonline.org.
URL:https://themobmom.com/event/good-listeners-storytime-at-semmes-2/
LOCATION:Semmes Regional Library
END:VEVENT
BEGIN:VEVENT
DTSTART;TZID=UTC:20250521T110000
DTEND;TZID=UTC:20250521T113000
DTSTAMP:20260424T070441
CREATED:20250518T054435Z
LAST-MODIFIED:20250518T054435Z
UID:11095-1747825200-1747827000@themobmom.com
SUMMARY:Listen & Learn Storytime
DESCRIPTION:Let’s Listen and Learn with fun stories and songs! \nStorytime has many benefits for children such as promoting early literacy\, language development\, help develop concentration\, social skills\, communication skills\, and encourages their imagination and creativity. Join us in the Storytime room at West Regional for fun stories and songs. Ideal for ages 3-5 years. \nFor more information\, please call (251)340-8571 or email West Regional Youth Services at westyou@mplonline.org.
URL:https://themobmom.com/event/listen-learn-storytime-4/
LOCATION:West Regional Library
END:VEVENT
BEGIN:VEVENT
DTSTART;TZID=UTC:20250521T113000
DTEND;TZID=UTC:20250521T120000
DTSTAMP:20260424T070441
CREATED:20250518T053117Z
LAST-MODIFIED:20250518T053117Z
UID:11081-1747827000-1747828800@themobmom.com
SUMMARY:Good Listener Storytime at Moorer
DESCRIPTION:Join us at the Moorer Branch for stories\, songs\, and fun! \nEarly reading ignites creativity\, sparks curiosity\, and stimulates the imagination in young children. This program is designed to help promote their passion for learning.
URL:https://themobmom.com/event/good-listener-storytime-at-moorer-4/
LOCATION:Monte. L Moorer/Spring Hill Branch Library
END:VEVENT
BEGIN:VEVENT
DTSTART;TZID=UTC:20250521T153000
DTEND;TZID=UTC:20250521T163000
DTSTAMP:20260424T070441
CREATED:20250518T053511Z
LAST-MODIFIED:20250518T053511Z
UID:11085-1747841400-1747845000@themobmom.com
SUMMARY:Memory Picture Game
DESCRIPTION:Test your memorization skills! \nLet’s have some fun testing your memorization skills. See how many items you can remember and draw for a chance to win a prize! Good luck!
URL:https://themobmom.com/event/memory-picture-game-2/
LOCATION:Virginia Dillard Smith/Toulminville Branch Library
END:VEVENT
BEGIN:VEVENT
DTSTART;TZID=UTC:20250521T160000
DTEND;TZID=UTC:20250521T170000
DTSTAMP:20260424T070441
CREATED:20250518T053325Z
LAST-MODIFIED:20250518T053325Z
UID:11083-1747843200-1747846800@themobmom.com
SUMMARY:Crafty Corner- Turtle Corner Bookmarks
DESCRIPTION:Come join us at the Semmes Regional Library to have fun making crafts together! \n\n\n\n\nDon’t hide in your shell for World Turtle Day!  Come join us instead as we create amazing turtle corner bookmarks in honor of our shelled friends. This activity is ideal for ages 6-18.
URL:https://themobmom.com/event/crafty-corner-turtle-corner-bookmarks/
LOCATION:Semmes Regional Library
END:VEVENT
BEGIN:VEVENT
DTSTART;TZID=UTC:20250521T160000
DTEND;TZID=UTC:20250521T170000
DTSTAMP:20260424T070441
CREATED:20250518T053642Z
LAST-MODIFIED:20250518T053642Z
UID:11087-1747843200-1747846800@themobmom.com
SUMMARY:Wonderful Wednesdays at West
DESCRIPTION:Afternoon Fun at the West Regional Library! \nStop by the library on the 1st and 3rd Wednesdays of the month for fun at the library! Each program features an engaging activity sure to make your Wednesday wonderful!
URL:https://themobmom.com/event/wonderful-wednesdays-at-west-2/
LOCATION:West Regional Library
END:VEVENT
BEGIN:VEVENT
DTSTART;TZID=UTC:20250521T160000
DTEND;TZID=UTC:20250521T170000
DTSTAMP:20260424T070441
CREATED:20250518T061904Z
LAST-MODIFIED:20250518T061904Z
UID:11131-1747843200-1747846800@themobmom.com
SUMMARY:Kids Free Build
DESCRIPTION:Age Group:\nChildren\n\n\n\nRegistration is required for this event.\nRegistration will close on May 21\, 2025 @ 4:00pm.\n\n\n\nProgram Description\nEvent Details\n\nFree Build is FREE FUN! A variety of building toys are brought out to construct anything your mind can think of. Use Magnatiles to engineer a rocket ship\, LEGOs to create a movie set\, Brain Flakes to build a car\, and so much more! Free Build is a fun time of building without too many guidelines! \nRegistration is NOT required\, but a guardian must be present during the program. This group is for kids ages 5-9. \n\nDisclaimer(s)\n\n\n\nAccompanying Adults\n\nThis program is designed for children and accompanying adults. Ages 15 and under require an accompanying adult.  Please plan to attend and be engaged with your child for this program. Drop offs will not be permitted.
URL:https://themobmom.com/event/kids-free-build-2/
LOCATION:Foley Public Library
END:VEVENT
END:VCALENDAR