BEGIN:VCALENDAR
VERSION:2.0
PRODID:-//MOB Moms - ECPv6.15.1.1//NONSGML v1.0//EN
CALSCALE:GREGORIAN
METHOD:PUBLISH
X-WR-CALNAME:MOB Moms
X-ORIGINAL-URL:https://themobmom.com
X-WR-CALDESC:Events for MOB Moms
REFRESH-INTERVAL;VALUE=DURATION:PT1H
X-Robots-Tag:noindex
X-PUBLISHED-TTL:PT1H
BEGIN:VTIMEZONE
TZID:UTC
BEGIN:STANDARD
TZOFFSETFROM:+0000
TZOFFSETTO:+0000
TZNAME:UTC
DTSTART:20250101T000000
END:STANDARD
END:VTIMEZONE
BEGIN:VEVENT
DTSTART;TZID=UTC:20250516T103000
DTEND;TZID=UTC:20250516T121500
DTSTAMP:20260424T070428
CREATED:20250515T222257Z
LAST-MODIFIED:20250515T222257Z
UID:11026-1747391400-1747397700@themobmom.com
SUMMARY:$7 Open Jump at Pump it Up
DESCRIPTION:Open Jump for CHEAP?? YES PLEASE! Join us for our most affordable jump at the end of your week! Only $7 + tax per child and parents are free.
URL:https://themobmom.com/event/7-open-jump-at-pump-it-up/
LOCATION:Pump it Up Mobile
END:VEVENT
BEGIN:VEVENT
DTSTART;TZID=UTC:20250516T120000
DTEND;TZID=UTC:20250516T130000
DTSTAMP:20260424T070428
CREATED:20250515T223139Z
LAST-MODIFIED:20250515T223139Z
UID:11032-1747396800-1747400400@themobmom.com
SUMMARY:The Mama Village- monthly meet ups
DESCRIPTION:The Mama Village is a FREE motherhood support group for mamas with babies aged 0-2.The group is facilitated by perinatal therapist Morgan Bradwell\, LICSW\, PMH-C of Village Therapy Collective & perinatal chiropractor Dr. Tiffany Jones\, DC of Liberation Chiropractic & Wellness.\nWe meet once a month on Fridays from 12-1pm at Redbar Espresso. Buying a coffee\, smoothie\, or lunch from Redbar is encouraged as a way of thanking them for freely offering us a space to meet. Pro tip – get to Redbar a few minutes early to place your order before their lunch rush!\nBabies welcome!! If you have a toddler\, we do suggest bringing some small activities for them to play with. But of course\, no judgment if you’d rather come solo and have a self-care hour without baby \n* Disclaimer – This group is not psychotherapy or chiropractic care\, nor is it a replacement for psychotherapy or chiropractic care.
URL:https://themobmom.com/event/the-mama-village-monthly-meet-ups-2/
LOCATION:Redbar Espresso & Market LLC
END:VEVENT
BEGIN:VEVENT
DTSTART;TZID=UTC:20250516T180000
DTEND;TZID=UTC:20250516T210000
DTSTAMP:20260424T070428
CREATED:20250513T141005Z
LAST-MODIFIED:20250513T141005Z
UID:11011-1747418400-1747429200@themobmom.com
SUMMARY:Movies in the Park: Inside Out 2
DESCRIPTION:You all have made our first two installments of our  Spring Movies in the Park  series so phenomenal; let’s keep that same energy for our third and final installment of the season!\nWe will be at Mardi Gras Park in Downtown Mobile on Friday\, May 16 for our showing of Disney Pixar’s Inside Out 2\, and per usual\, we have a variety of pre-film entertainment and activities planned for our guests!\nEnjoy our interactive “Emotion Stations”\, each featuring activities based off of the six major emotions highlighted in the film:\n Joy Sadness Anger Fear Disgust And newcomer emotion\, Anxiety\n We will also have our “Emotion Art Showcase” featuring art based on the emotions featured in the film and created by youth from local schools and art programs in the city! \n(Click here for more details on the art showcase: https://www.facebook.com/share/p/1BRHag2TuC/ )\nGuests are also invited to cosplay their favorite emotion in the film\, including other newcomers Embarrassment\, Envy\, and Ennui (Boredom)!\nAnd this is just a taste of what we are planning! More details to come so be sure to check the Discussion tab regularly for new updates! \nThis film is one that guests of ALL ages will enjoy\, so we hope to see you and your family/friends there!
URL:https://themobmom.com/event/movies-in-the-park-inside-out-2/
LOCATION:Mardi Gras Park
ATTACH;FMTTYPE=image/jpeg:https://themobmom.com/wp-content/uploads/2025/05/491289268_1121362323355568_3310471619957362631_n.jpg
END:VEVENT
BEGIN:VEVENT
DTSTART;TZID=UTC:20250516T180000
DTEND;TZID=UTC:20250516T210000
DTSTAMP:20260424T070428
CREATED:20250513T142157Z
LAST-MODIFIED:20250513T142157Z
UID:11018-1747418400-1747429200@themobmom.com
SUMMARY:Music and a Movie
DESCRIPTION:Music and a Movie returns to Heritage Park in Downtown Foley for Fridays in May. The popular Foley event kicks off at 6 p.m. with live entertainment\, followed by a movie at dusk. Those who come for the music and a movie are asked to bring a chair or a blanket for seating.\n\nMay 16Mid Life CrisisMoana 2\n\nMay 23The Jason Abel ProjectDespicable Me 4\n\nMay 30The Shrimp Shack ShootersMufasa: The Lion King
URL:https://themobmom.com/event/music-and-a-movie/
LOCATION:Heritage Park (Foley)
ATTACH;FMTTYPE=image/jpeg:https://themobmom.com/wp-content/uploads/2025/05/486760647_1044860764339166_7722401205206024585_n.jpg
END:VEVENT
END:VCALENDAR