BEGIN:VCALENDAR
VERSION:2.0
PRODID:-//MOB Moms - ECPv6.15.1.1//NONSGML v1.0//EN
CALSCALE:GREGORIAN
METHOD:PUBLISH
X-ORIGINAL-URL:https://themobmom.com
X-WR-CALDESC:Events for MOB Moms
REFRESH-INTERVAL;VALUE=DURATION:PT1H
X-Robots-Tag:noindex
X-PUBLISHED-TTL:PT1H
BEGIN:VTIMEZONE
TZID:UTC
BEGIN:STANDARD
TZOFFSETFROM:+0000
TZOFFSETTO:+0000
TZNAME:UTC
DTSTART:20250101T000000
END:STANDARD
END:VTIMEZONE
BEGIN:VEVENT
DTSTART;VALUE=DATE:20250510
DTEND;VALUE=DATE:20250511
DTSTAMP:20260424T070441
CREATED:20250509T161107Z
LAST-MODIFIED:20250509T161107Z
UID:10947-1746835200-1746921599@themobmom.com
SUMMARY:Family Fun Day
DESCRIPTION:
URL:https://themobmom.com/event/family-fun-day-2/
LOCATION:Mobile Botanical Gardens
ATTACH;FMTTYPE=image/png:https://themobmom.com/wp-content/uploads/2025/05/family-fun-day-botanical-gardens.png
END:VEVENT
BEGIN:VEVENT
DTSTART;TZID=UTC:20250510T073000
DTEND;TZID=UTC:20250510T120000
DTSTAMP:20260424T070441
CREATED:20250509T165051Z
LAST-MODIFIED:20250509T165051Z
UID:10972-1746862200-1746878400@themobmom.com
SUMMARY:Spring/Summer Market in the Park
DESCRIPTION:Shop locally grown\, locally produced and handmade items at Market in the Park! \nThis spring/summer\, Market in the Park will run every Saturday from April 26 through June 28. Explore a wide variety of fresh\, locally-grown produce\, artisanal goods\, and handcrafted items from local vendors while enjoying live entertainment in Cathedral Square.  We’re proud to support our community with a selection of vendors who accept SNAP benefits\, making fresh\, healthy options accessible to all.\nEvery Saturday\, the market will open at Cathedral Square at 7:30 a.m. and close at noon.
URL:https://themobmom.com/event/spring-summer-market-in-the-park-3/
LOCATION:Cathedral Square\, Mobile\, Alabama
ATTACH;FMTTYPE=image/jpeg:https://themobmom.com/wp-content/uploads/2025/05/488884682_992204126419453_7760596316720170802_n.jpg
END:VEVENT
BEGIN:VEVENT
DTSTART;TZID=UTC:20250510T080000
DTEND;TZID=UTC:20250510T140000
DTSTAMP:20260424T070441
CREATED:20250509T164317Z
LAST-MODIFIED:20250509T164317Z
UID:10965-1746864000-1746885600@themobmom.com
SUMMARY:Mother's Day Market at the Loop
DESCRIPTION:Pop’s Midtown presents: Our 3rd Annual Mother’s Day Market at the Loop! \nCelebrate moms (and local makers!) with us at midtown’s favorite spring tradition featuring: Local vendors + artists Live music by Meredith Hicks to keep it breezy Gorgeous plants for gifting (or keeping) Frosé on tap (yes please) Fresh popcorn & treats…and plenty of love for Mom!\n Free to attend — family-friendly\, photo-worthy\, & always a good time.
URL:https://themobmom.com/event/mothers-day-market-at-the-loop/
LOCATION:Pop’s Midtown
ATTACH;FMTTYPE=image/jpeg:https://themobmom.com/wp-content/uploads/2025/05/493023087_1214180617373448_2356647837545573771_n.jpg
END:VEVENT
BEGIN:VEVENT
DTSTART;TZID=UTC:20250510T090000
DTEND;TZID=UTC:20250510T150000
DTSTAMP:20260424T070441
CREATED:20250509T164810Z
LAST-MODIFIED:20250509T164810Z
UID:10968-1746867600-1746889200@themobmom.com
SUMMARY:Mother's Day @ the Garden Center
DESCRIPTION:Join us for our 5th annual Mother’s Day Event at the Garden Center May 10th from 9am-3pm!We will have activities for the kids and sales going on!Make sure to press “interested” or “going” so you can receive notifications from the event!We can’t wait to see everyone!
URL:https://themobmom.com/event/mothers-day-the-garden-center/
LOCATION:The Garden Center\, Shelton Beach Road\, Saraland
ATTACH;FMTTYPE=image/jpeg:https://themobmom.com/wp-content/uploads/2025/05/494531093_1088884863048706_8153327015772855887_n.jpg
END:VEVENT
BEGIN:VEVENT
DTSTART;TZID=UTC:20250510T100000
DTEND;TZID=UTC:20250510T120000
DTSTAMP:20260424T070441
CREATED:20250509T170513Z
LAST-MODIFIED:20250509T170513Z
UID:10985-1746871200-1746878400@themobmom.com
SUMMARY:2nd Saturday Kids Fun Day
DESCRIPTION:Join us for our 2nd Kids Day! We’ll have Pastor Patti’s pet pig to pet\, sunflowers to plant\, and flower crafts to make. The event will take place from 10am-12pm on May 10th.
URL:https://themobmom.com/event/2nd-saturday-kids-fun-day/
LOCATION:McKenzie Farm Market\, Fairhope
ATTACH;FMTTYPE=image/jpeg:https://themobmom.com/wp-content/uploads/2025/05/493747193_1253859559892278_3367095964729606362_n.jpg
END:VEVENT
BEGIN:VEVENT
DTSTART;TZID=UTC:20250510T100000
DTEND;TZID=UTC:20250510T150000
DTSTAMP:20260424T070441
CREATED:20250509T163134Z
LAST-MODIFIED:20250509T163134Z
UID:10954-1746871200-1746889200@themobmom.com
SUMMARY:The Daphne Market
DESCRIPTION:The Daphne Market is a vibrant monthly community event that brings together local vendors\, food trucks\, artisans\, and small businesses for a fun and family-friendly shopping experience!  Held in our local community\, this market is the perfect place to support local makers\, discover unique products\, and enjoy delicious food from some of the area’s best food trucks.\nThe Daphne Market features a diverse selection of vendors\, including handmade crafts \, fresh produce \, boutique items \, baked goods \, home décor \, and more! Whether you’re looking for a unique gift\, fresh local flavors\, or just a great way to spend the day\, this market has something for everyone!\nCome out and shop\, eat\, and explore in a welcoming atmosphere that celebrates community\, creativity\, and local businesses. Follow Bay Area Events on social media for updates on vendor lineups\, special activities\, and upcoming market dates!
URL:https://themobmom.com/event/the-daphne-market/
LOCATION:US-98\, Daphne
ATTACH;FMTTYPE=image/jpeg:https://themobmom.com/wp-content/uploads/2025/05/481480264_122199438086145569_3090113340932968168_n.jpg
END:VEVENT
BEGIN:VEVENT
DTSTART;TZID=UTC:20250510T103000
DTEND;TZID=UTC:20250510T113000
DTSTAMP:20260424T070441
CREATED:20250504T233447Z
LAST-MODIFIED:20250504T234128Z
UID:10897-1746873000-1746876600@themobmom.com
SUMMARY:Game On
DESCRIPTION:Join us for a fun and interactive gaming experience!  \nWhether you are a casual gamer\, a fierce competitor\, or are new to the gaming world\, enjoy an inclusive and enjoyable environment for playing games! Several gaming options will be offered\, from Wii to Switch console games to board games such as Last Word and Apples to Apples. \nThis program is best suited for ages 8-11. 
URL:https://themobmom.com/event/game-on/
LOCATION:Ben May Main Library
END:VEVENT
BEGIN:VEVENT
DTSTART;TZID=UTC:20250510T103000
DTEND;TZID=UTC:20250510T113000
DTSTAMP:20260424T070441
CREATED:20250504T235851Z
LAST-MODIFIED:20250504T235851Z
UID:10918-1746873000-1746876600@themobmom.com
SUMMARY:Children's - Saturday Storytime
DESCRIPTION:
URL:https://themobmom.com/event/childrens-saturday-storytime/
LOCATION:Daphne Public Library\, Daphne\, Alabama\, 36526
END:VEVENT
BEGIN:VEVENT
DTSTART;TZID=UTC:20250510T110000
DTEND;TZID=UTC:20250510T130000
DTSTAMP:20260424T070441
CREATED:20250509T165426Z
LAST-MODIFIED:20250509T165426Z
UID:10975-1746874800-1746882000@themobmom.com
SUMMARY:Mutts and Mimosas Adoption Event
DESCRIPTION:Come to Callaghan’s ready to adopt a pet and have some bubbly!
URL:https://themobmom.com/event/mutts-and-mimosas-adoption-event/
LOCATION:Callaghan’s Irish Social Club
ATTACH;FMTTYPE=image/jpeg:https://themobmom.com/wp-content/uploads/2025/05/495375131_973695814969298_5996347284899754477_n.jpg
END:VEVENT
BEGIN:VEVENT
DTSTART;TZID=UTC:20250510T110000
DTEND;TZID=UTC:20250510T130000
DTSTAMP:20260424T070441
CREATED:20250509T165819Z
LAST-MODIFIED:20250509T165819Z
UID:10978-1746874800-1746882000@themobmom.com
SUMMARY:Bouquet Bar Featuring Bella's Blooms
DESCRIPTION:Let’s honor the mothers in our community! Please stop by the office to build your own bouquet.
URL:https://themobmom.com/event/bouquet-bar-featuring-bellas-blooms/
LOCATION:Springhill Ave
ATTACH;FMTTYPE=image/jpeg:https://themobmom.com/wp-content/uploads/2025/05/493899953_1293718016092261_6001455092421384208_n.jpg
END:VEVENT
BEGIN:VEVENT
DTSTART;TZID=UTC:20250510T140000
DTEND;TZID=UTC:20250510T160000
DTSTAMP:20260424T070441
CREATED:20250504T233730Z
LAST-MODIFIED:20250504T234021Z
UID:10899-1746885600-1746892800@themobmom.com
SUMMARY:Chess Club for Everyone at Moorer
DESCRIPTION:Beginners and experienced players welcome! \nPlaying chess improves concentration and problem-solving skills. Join us at Monte L. Moorer/Spring Hill Branch for chess club designed for ages 6 and up.
URL:https://themobmom.com/event/chess-club-for-everyone-at-moorer-2/
LOCATION:Monte. L Moorer/Spring Hill Branch Library
END:VEVENT
BEGIN:VEVENT
DTSTART;TZID=UTC:20250510T150000
DTEND;TZID=UTC:20250510T153000
DTSTAMP:20260424T070441
CREATED:20250504T233932Z
LAST-MODIFIED:20250504T233932Z
UID:10901-1746889200-1746891000@themobmom.com
SUMMARY:Saturday Crafternoon (Young Artist Series- Alma Woodsey)
DESCRIPTION:Let’s enjoy making crafts together! \nJoin us every Saturday at the Theodore Oaks Branch to get creative and make a fun craft. \n\n\n\n\nJoin us for our Young Artist Series inspired by Alma Woodsey as we create a unique mosaic-style picture. \nThis program is ideal for children ages 6 – 11\, but all ages are welcome. Supplies and space are limited though\, and participation is on a first come\, first serve basis. For more information\, please email theocir@mplonline.org or call (251) 662-7674. \n\nDisclaimer(s)\n\n\n\nFood Allergies\n\nWe cannot guarantee that food served at this program has not come into contact with tree nuts\, soy or other allergens.
URL:https://themobmom.com/event/saturday-crafternoon-young-artist-series-alma-woodsey/
LOCATION:Mobile Public Library- Theodore Oaks Branch
END:VEVENT
END:VCALENDAR