BEGIN:VCALENDAR
VERSION:2.0
PRODID:-//MOB Moms - ECPv6.15.1.1//NONSGML v1.0//EN
CALSCALE:GREGORIAN
METHOD:PUBLISH
X-ORIGINAL-URL:https://themobmom.com
X-WR-CALDESC:Events for MOB Moms
REFRESH-INTERVAL;VALUE=DURATION:PT1H
X-Robots-Tag:noindex
X-PUBLISHED-TTL:PT1H
BEGIN:VTIMEZONE
TZID:UTC
BEGIN:STANDARD
TZOFFSETFROM:+0000
TZOFFSETTO:+0000
TZNAME:UTC
DTSTART:20250101T000000
END:STANDARD
END:VTIMEZONE
BEGIN:VEVENT
DTSTART;TZID=UTC:20250505T091500
DTEND;TZID=UTC:20250505T120000
DTSTAMP:20260424T070441
CREATED:20250505T001153Z
LAST-MODIFIED:20250505T001153Z
UID:10932-1746436500-1746446400@themobmom.com
SUMMARY:Free Build – Activity Room
DESCRIPTION:All ages. \nOur Activity Room will be open and stocked with Lincoln logs\, blocks\, LEGOs\, and more. This is unstructured free play and exploration. Parents are required to directly supervise their children and help clean up. Stop by and see what you can build!
URL:https://themobmom.com/event/free-build-activity-room/
LOCATION:Fairhope Public Library
END:VEVENT
BEGIN:VEVENT
DTSTART;TZID=UTC:20250505T130000
DTEND;TZID=UTC:20250505T150000
DTSTAMP:20260424T070441
CREATED:20250504T222638Z
LAST-MODIFIED:20250504T222638Z
UID:10837-1746450000-1746457200@themobmom.com
SUMMARY:Homeschool Teens D&D
DESCRIPTION:Begin your epic adventure with Dungeons and Dragons! \nJoin us at West in the Teens Programming Room for a Homeschool Teen-led Dungeons and Dragons campaign. \nRegistration is required. For more information or additional way to register\, please email Ms. Jennifer at jthomas2@mplonline.org or call the fiction desk at 251-340-8565.
URL:https://themobmom.com/event/homeschool-teens-dd/
LOCATION:West Regional Library
END:VEVENT
BEGIN:VEVENT
DTSTART;TZID=UTC:20250505T150000
DTEND;TZID=UTC:20250505T170000
DTSTAMP:20260424T070441
CREATED:20250501T044040Z
LAST-MODIFIED:20250501T044040Z
UID:10760-1746457200-1746464400@themobmom.com
SUMMARY:Chess Club at West
DESCRIPTION:Event Details\n\n\n\nAll ages club – beginners and experienced players welcome! \nJoin us in the Meeting Room every Monday to learn how to play or improve your skill at the game of chess! Playing chess improves concentration and problem-solving skills. No experience is necessary to join the club – just enthusiasm and good sportsmanship!
URL:https://themobmom.com/event/chess-club-at-west/
LOCATION:West Regional Library
END:VEVENT
BEGIN:VEVENT
DTSTART;TZID=UTC:20250505T153000
DTEND;TZID=UTC:20250505T163000
DTSTAMP:20260424T070441
CREATED:20250504T222452Z
LAST-MODIFIED:20250504T222452Z
UID:10835-1746459000-1746462600@themobmom.com
SUMMARY:Tabletop Games at Toulminville Branch
DESCRIPTION:Enjoy Tabletop games at the Toulminville Branch! \nCome challenge your gaming skills by playing “Tabletop” games for the day. We hope to see you there! \nAges 6-11
URL:https://themobmom.com/event/tabletop-games-at-toulminville-branch/
LOCATION:Virginia Dillard Smith/Toulminville Branch Library
END:VEVENT
BEGIN:VEVENT
DTSTART;TZID=UTC:20250505T153000
DTEND;TZID=UTC:20250505T170000
DTSTAMP:20260424T070441
CREATED:20250505T000121Z
LAST-MODIFIED:20250505T000121Z
UID:10920-1746459000-1746464400@themobmom.com
SUMMARY:LEGO® Free Build
DESCRIPTION:Every Monday 3:30 – 5 pm\, patrons are invited to the Spanish Fort Public Library to exercise their creativity and practice their engineering skills by constructing their very own LEGO® creation. \nThis program is limited to the amount of LEGO®base boards. Each participant must sign in at the front desk to receive their base. Bases will be passed out on a first come\, first served basis beginning at 3:30PM. Completed creations are labeled with the creator name and displayed in the library for the rest of the week. All displays are taken apart and bricks are returned to the bins on Saturdays in preparation for the next program. \n\nPlease do not bring in outside plastic bricks/LEGO®. Bricks/LEGO®used in this program are property of SFPL
URL:https://themobmom.com/event/lego-free-build/
LOCATION:Spanish Fort Public Library
END:VEVENT
BEGIN:VEVENT
DTSTART;TZID=UTC:20250505T153000
DTEND;TZID=UTC:20250505T170000
DTSTAMP:20260424T070441
CREATED:20250505T001317Z
LAST-MODIFIED:20250505T001317Z
UID:10934-1746459000-1746464400@themobmom.com
SUMMARY:Family Game Time
DESCRIPTION:All Ages: \n  \nBring your family and friends and enjoy our new program! \nWe’ll get out board games\, puzzles\, chess\, checkers\, and more for you to enjoy with the people you love!
URL:https://themobmom.com/event/family-game-time/
LOCATION:Fairhope Public Library
END:VEVENT
BEGIN:VEVENT
DTSTART;TZID=UTC:20250505T160000
DTEND;TZID=UTC:20250505T170000
DTSTAMP:20260424T070441
CREATED:20250501T043857Z
LAST-MODIFIED:20250501T043857Z
UID:10758-1746460800-1746464400@themobmom.com
SUMMARY:Chess Club at Saraland
DESCRIPTION:Join us every Monday for an engaging and enjoyable chess session\, where you can learn the fundamentals of the game or enhance your existing skills. Whether you’re a beginner or looking to refine your strategies\, our friendly group welcomes players of all levels.
URL:https://themobmom.com/event/chess-club-at-saraland/
LOCATION:Saraland Public Library
END:VEVENT
BEGIN:VEVENT
DTSTART;TZID=UTC:20250505T163000
DTEND;TZID=UTC:20250505T173000
DTSTAMP:20260424T070441
CREATED:20250501T152056Z
LAST-MODIFIED:20250501T152056Z
UID:10812-1746462600-1746466200@themobmom.com
SUMMARY:Teen Tech Class (3rd-12th Grade) Advanced 3D printing
DESCRIPTION:Explore create design\, 3D CAD platforms\, & Splicing programs in more depth!\nTo register\, please call\, message us there on facebook\, or sign up in person!
URL:https://themobmom.com/event/teen-tech-class-3rd-12th-grade-advanced-3d-printing/
LOCATION:Orange Beach Public Library\, 26267 Canal Road\, Orange Beach\, AL\, 36561
END:VEVENT
BEGIN:VEVENT
DTSTART;TZID=UTC:20250505T163000
DTEND;TZID=UTC:20250505T173000
DTSTAMP:20260424T070441
CREATED:20250505T002024Z
LAST-MODIFIED:20250505T002024Z
UID:10940-1746462600-1746466200@themobmom.com
SUMMARY:Teen Tech Class
DESCRIPTION:Explore create design\, 3D CAD platforms\, & Splicing programs in more depth!\nTo register\, please call\, message us there on facebook\, or sign up in person!
URL:https://themobmom.com/event/teen-tech-class/
LOCATION:Orange Beach Public Library\, 26267 Canal Road\, Orange Beach\, AL\, 36561
END:VEVENT
END:VCALENDAR