BEGIN:VCALENDAR
VERSION:2.0
PRODID:-//MOB Moms - ECPv6.15.1.1//NONSGML v1.0//EN
CALSCALE:GREGORIAN
METHOD:PUBLISH
X-ORIGINAL-URL:https://themobmom.com
X-WR-CALDESC:Events for MOB Moms
REFRESH-INTERVAL;VALUE=DURATION:PT1H
X-Robots-Tag:noindex
X-PUBLISHED-TTL:PT1H
BEGIN:VTIMEZONE
TZID:UTC
BEGIN:STANDARD
TZOFFSETFROM:+0000
TZOFFSETTO:+0000
TZNAME:UTC
DTSTART:20250101T000000
END:STANDARD
END:VTIMEZONE
BEGIN:VEVENT
DTSTART;VALUE=DATE:20250501
DTEND;VALUE=DATE:20250504
DTSTAMP:20260424T070439
CREATED:20250425T163256Z
LAST-MODIFIED:20250425T163256Z
UID:10735-1746057600-1746316799@themobmom.com
SUMMARY:Gulf Coast Hot Air Balloon Festival
DESCRIPTION:It’s one of the coast’s favorite events—and it’s coming back to OWA May 1-3! Don’t miss the Gulf Coast Hot Air Balloon Festival’s three-day-long line-up of live entertainment & events. \nEach day of the festival offers kids’ activities\, lawn games\, arts & crafts vendors\, synchronized K9 shows and more. Live entertainment keeps the excitement going each day\, including the legendary Tip Tops Saturday night\, May 3rd. Weather permitting\, each evening will also feature a hot air balloon glow plus tethered rides (tickets available for purchase on-site). \nHow to make your visit even better? Tropic Falls is offering an event-exclusive Twilight Ticket at a $10 savings May 1-3! Get your tickets here: visitowa.com/plan-your-visit/tickets
URL:https://themobmom.com/event/gulf-coast-hot-air-balloon-festival/
LOCATION:OWA Parks & Resort
ATTACH;FMTTYPE=image/jpeg:https://themobmom.com/wp-content/uploads/2025/04/OWA_hot-air-balloon.jpg
END:VEVENT
BEGIN:VEVENT
DTSTART;VALUE=DATE:20250503
DTEND;VALUE=DATE:20250504
DTSTAMP:20260424T070439
CREATED:20250501T153412Z
LAST-MODIFIED:20250501T153412Z
UID:10816-1746230400-1746316799@themobmom.com
SUMMARY:Kids Play Day (9 a.m. - 12 p.m.)
DESCRIPTION:Free family fun! Join us for the Gulf Coast Suzuki Kids’ Play Day on Saturday\, May 3\, 2025\, from 9:00 AM to 12:00 PM at McGill Field\, located at the corner of Catherine Street and Old Shell Road in Mobile\, Alabama. This completely free community event is packed with activities for all ages.\nEvent Highlights:-Interactive Activity Stations: Kids can engage in hands-on STEM challenges\, art projects\, and more\, fostering creativity and learning.-Touch-A-Truck Experience: Children can explore fire trucks\, police cars\, construction vehicles\, and more\, meeting the professionals who operate them.-Nerf Gun Battle Zone: An action-packed area where kids can test their aim and enjoy friendly competition.-Vendor Marketplace: Parents can browse a curated selection of local artisans\, boutique vendors\, and specialty retailers\, perfect for finding unique gifts.-Food Trucks & Treats: Enjoy a variety of delicious options from local food vendors\, offering something for every palate.\nAll activities are completely free\, and everyone is welcome! Food and retail purchases will be available for those who’d like to enjoy snacks\, meals\, or shopping during the event.\nThis event is open to the public\, so bring your family\, invite your friends\, and make a morning of it!\nFor more information or inquiries about hosting an activity\, becoming a vendor\, or sponsorship opportunities\, please contact us at steakout@stmarymobile.org.\n\nDon’t miss out on this fun-filled morning designed for the whole family!
URL:https://themobmom.com/event/kids-play-day-9-a-m-12-p-m/
LOCATION:McGill-Toolen Catholic High School
ATTACH;FMTTYPE=image/jpeg:https://themobmom.com/wp-content/uploads/2025/05/kids-play-day.jpg
END:VEVENT
BEGIN:VEVENT
DTSTART;VALUE=DATE:20250503
DTEND;VALUE=DATE:20250504
DTSTAMP:20260424T070439
CREATED:20250501T155456Z
LAST-MODIFIED:20250501T155456Z
UID:10820-1746230400-1746316799@themobmom.com
SUMMARY:Tanner Williams May Day Festival
DESCRIPTION:10 a.m. – 2 p.m.\nThe Tanner Williams Civic & Historical Society hosts the Annual Tanner Williams May Day Festival the first Saturday of May at Tanner Williams Community Park. Enjoy the traditional May Pole Dance\, the crowning of the May Day Court and Little Mister & Miss Tanner Williams\, local vendors\, fresh-off-the-grill foods at the concession stand\, kids activities\, and more! Admission is FREE!\nPlease send us a message if you are interested in adding to our event by being a vendor\, volunteering\, bringing a vintage car or tractor\, providing kids activities\, or entering your child in May Queen and King (K5-5th grade)/Little Mr. & Miss Tanner Williams (4 and under) \nSee less
URL:https://themobmom.com/event/tanner-williams-may-day-festival/
LOCATION:Tanner Williams Community Park
ATTACH;FMTTYPE=image/jpeg:https://themobmom.com/wp-content/uploads/2025/05/may-day-festival.jpg
END:VEVENT
BEGIN:VEVENT
DTSTART;VALUE=DATE:20250503
DTEND;VALUE=DATE:20250504
DTSTAMP:20260424T070439
CREATED:20250501T170502Z
LAST-MODIFIED:20250501T170502Z
UID:10824-1746230400-1746316799@themobmom.com
SUMMARY:Semmes Heritage Day
DESCRIPTION:We can’t wait for Heritage Day in Semmes. The event will include Heritage Park’s open house\, historical demonstrations\, cake walks\, plant sales\, may pole dances\, entertainment\, seed planting for Arbor Day\, and plenty of old fashioned fun.
URL:https://themobmom.com/event/semmes-heritage-day-2/
LOCATION:Semmes Heritage Park
ATTACH;FMTTYPE=image/jpeg:https://themobmom.com/wp-content/uploads/2025/05/heritage-day.jpg
END:VEVENT
BEGIN:VEVENT
DTSTART;VALUE=DATE:20250503
DTEND;VALUE=DATE:20250504
DTSTAMP:20260424T070439
CREATED:20250501T171018Z
LAST-MODIFIED:20250501T171018Z
UID:10830-1746230400-1746316799@themobmom.com
SUMMARY:Spring/Summer Market in the Park
DESCRIPTION:Shop locally grown\, locally produced and handmade items at Market in the Park! \nThis spring/summer\, Market in the Park will run every Saturday from April 26 through June 28. Explore a wide variety of fresh\, locally-grown produce\, artisanal goods\, and handcrafted items from local vendors while enjoying live entertainment in Cathedral Square.  We’re proud to support our community with a selection of vendors who accept SNAP benefits\, making fresh\, healthy options accessible to all.\nEvery Saturday\, the market will open at Cathedral Square at 7:30 a.m. and close at noon.\nLearn more and register to become a vendor at www.cityofmobile.org/events!
URL:https://themobmom.com/event/spring-summer-market-in-the-park-2/
LOCATION:Cathedral Square\, Mobile\, Alabama
ATTACH;FMTTYPE=image/jpeg:https://themobmom.com/wp-content/uploads/2025/04/market-in-the-park.jpg
END:VEVENT
BEGIN:VEVENT
DTSTART;VALUE=DATE:20250503
DTEND;VALUE=DATE:20250505
DTSTAMP:20260424T070439
CREATED:20250501T170810Z
LAST-MODIFIED:20250501T170810Z
UID:10827-1746230400-1746403199@themobmom.com
SUMMARY:Tacos & Tequila Festival
DESCRIPTION:The TACOS & TEQUILA FESTIVAL brings you2 Days of Family FUN with FREE ENTRY & PARKINGMay 3rd (10am – 6pm) & May 4th (10am – 5pm)19477 Fairground Road\, Robertsdale\, AL 36567-FOOD TRUCKS with a variety of TACOS & regular menu items.-Beer -Wine -TEQUILA – Mixed Drinks – Only $6 Each-Unique Artists & Crafters – Large Variety of Snacks-FUN Contests throughout the day for $CASH$-Huge kid zone -Petting Zoo – Pony Rides-The BEST Live Music ALL Day!Bring A Chair – Brink a BlanketBrink a pop-up tent! Stay All Day!-Yard Games to include Corn Hole!-No outside food or drinksFor More Info Visit: www.beachlifeevents.comFollow the Event Page for the latest Announcements.https://www.facebook.com/events/edit/1153053276166543
URL:https://themobmom.com/event/tacos-tequila-festival/
LOCATION:Baldwin County Coliseum
ATTACH;FMTTYPE=image/png:https://themobmom.com/wp-content/uploads/2025/05/tacos-tequila.png
END:VEVENT
BEGIN:VEVENT
DTSTART;TZID=UTC:20250503T100000
DTEND;TZID=UTC:20250503T103000
DTSTAMP:20260424T070439
CREATED:20250501T043644Z
LAST-MODIFIED:20250501T043644Z
UID:10756-1746266400-1746268200@themobmom.com
SUMMARY:Chess Club for All Ages at Parkway
DESCRIPTION:Whether you’re brand new to the game\, need a refresher\, or just want to talk about how to win checkmate\, come hang out with us at Parkway.
URL:https://themobmom.com/event/chess-club-for-all-ages-at-parkway/
LOCATION:Parkway Branch
CATEGORIES:Storytime
END:VEVENT
BEGIN:VEVENT
DTSTART;TZID=UTC:20250503T100000
DTEND;TZID=UTC:20250503T103000
DTSTAMP:20260424T070439
CREATED:20250501T144843Z
LAST-MODIFIED:20250501T144843Z
UID:10792-1746266400-1746268200@themobmom.com
SUMMARY:Chess Club for All Ages at Parkway
DESCRIPTION:Learn chess for all ages!  \nWhether you’re brand new to the game\, need a refresher\, or just want to talk about how to win checkmate\, come hang out with us at Parkway.
URL:https://themobmom.com/event/chess-club-for-all-ages-at-parkway-2/
LOCATION:Parkway Branch
END:VEVENT
BEGIN:VEVENT
DTSTART;TZID=UTC:20250503T100000
DTEND;TZID=UTC:20250503T110000
DTSTAMP:20260424T070439
CREATED:20250501T143950Z
LAST-MODIFIED:20250501T143950Z
UID:10784-1746266400-1746270000@themobmom.com
SUMMARY:Mad Science
DESCRIPTION:We have fun down to a science! \nBring your Child or Teen to the Moorer Branch to explore science with fun and wacky crafts! We’ll be conducting all sorts of experiments. This is suitable for ages 8-14.
URL:https://themobmom.com/event/mad-science/
LOCATION:Monte. L Moorer/Spring Hill Branch Library
END:VEVENT
BEGIN:VEVENT
DTSTART;TZID=UTC:20250503T100000
DTEND;TZID=UTC:20250503T110000
DTSTAMP:20260424T070439
CREATED:20250501T145416Z
LAST-MODIFIED:20250501T145416Z
UID:10796-1746266400-1746270000@themobmom.com
SUMMARY:Saturday Story Time & Craft
DESCRIPTION:Event Details\n\nOur Saturday Story Times are for all ages. Bring the family and enjoy some songs\, a book\, and a craft!
URL:https://themobmom.com/event/saturday-story-time-craft/
LOCATION:Foley Public Library
END:VEVENT
BEGIN:VEVENT
DTSTART;TZID=UTC:20250503T103000
DTEND;TZID=UTC:20250503T113000
DTSTAMP:20260424T070439
CREATED:20250501T145008Z
LAST-MODIFIED:20250501T145008Z
UID:10794-1746268200-1746271800@themobmom.com
SUMMARY:Snuggling Stories
DESCRIPTION:Morning snuggles with fun giggles! \nJoin us at the Saraland Public Library to enjoy fun stories\, songs\, movements\, and a craft.
URL:https://themobmom.com/event/snuggling-stories/
LOCATION:Saraland Public Library
END:VEVENT
BEGIN:VEVENT
DTSTART;TZID=UTC:20250503T113000
DTEND;TZID=UTC:20250503T133000
DTSTAMP:20260424T070439
CREATED:20250501T144124Z
LAST-MODIFIED:20250501T144124Z
UID:10786-1746271800-1746279000@themobmom.com
SUMMARY:Teen Dungeons and Dragons at Moorer
DESCRIPTION:Event Details\n\n\n\n“We must never stop failing\, because the minute we do\, we’ve failed.” -Dungeons and Dragons \nCome roll some dice and go on an epic adventure with D&D at the Moorer Branch Library! Teens ages 12-18 are invited to come create heroes and venture into the unknown in the popular table-top adventure game. \nRegistration is recommended! For more information\, please email Alec Broussard at abroussard@mplonline.org\, or call 251-494-4140. \n\n\n\nDisclaimer(s)\n\n\n\nFood Allergies\n\nWe cannot guarantee that food served at this program has not come into contact with tree nuts\, soy or other allergens.
URL:https://themobmom.com/event/teen-dungeons-and-dragons-at-moorer/
LOCATION:Monte. L Moorer/Spring Hill Branch Library
END:VEVENT
BEGIN:VEVENT
DTSTART;TZID=UTC:20250503T140000
DTEND;TZID=UTC:20250503T150000
DTSTAMP:20260424T070439
CREATED:20250501T145623Z
LAST-MODIFIED:20250501T145623Z
UID:10799-1746280800-1746284400@themobmom.com
SUMMARY:Kids Free Build
DESCRIPTION:Free Build is FREE FUN! A variety of building toys are brought out to construct anything your mind can think of. Use Magnatiles to engineer a rocket ship\, LEGOs to create a movie set\, Brain Flakes to build a car\, and so much more! Free Build is a fun time of building without too many guidelines! \nRegistration is NOT required\, but a guardian must be present during the program. This group is for kids ages 5-9. \n\nDisclaimer(s)\n\n\n\nAccompanying Adults\n\nThis program is designed for children and accompanying adults. Ages 15 and under require an accompanying adult.  Please plan to attend and be engaged with your child for this program. Drop offs will not be permitted.
URL:https://themobmom.com/event/kids-free-build/
LOCATION:Foley Public Library
END:VEVENT
BEGIN:VEVENT
DTSTART;TZID=UTC:20250503T140000
DTEND;TZID=UTC:20250503T160000
DTSTAMP:20260424T070439
CREATED:20250501T144301Z
LAST-MODIFIED:20250501T144301Z
UID:10788-1746280800-1746288000@themobmom.com
SUMMARY:Chess Club for Everyone at Moorer
DESCRIPTION:Beginners and experienced players welcome! \nPlaying chess improves concentration and problem-solving skills. Join us at Monte L. Moorer/Spring Hill Branch for chess club designed for ages 6 and up.
URL:https://themobmom.com/event/chess-club-for-everyone-at-moorer/
LOCATION:Monte. L Moorer/Spring Hill Branch Library
END:VEVENT
BEGIN:VEVENT
DTSTART;TZID=UTC:20250503T150000
DTEND;TZID=UTC:20250503T153000
DTSTAMP:20260424T070439
CREATED:20250501T144632Z
LAST-MODIFIED:20250501T144632Z
UID:10790-1746284400-1746286200@themobmom.com
SUMMARY:Saturday Crafternoon (Hearts for Mom)
DESCRIPTION:Let’s enjoy making crafts together! \nJoin us every Saturday at the Theodore Oaks Branch to get creative and make a fun craft. \n\n\n\n\nThis Saturday\, we will make hearts for Mom and create a heart pin for her or another special person. \nThis program is ideal for children ages 6 – 11\, but all ages are welcome. Supplies and space are limited though\, and participation is on a first come\, first serve basis. For more information\, please email theocir@mplonline.org or call (251) 662-7674. \n\nDisclaimer(s)\n\n\n\nFood Allergies\n\nWe cannot guarantee that food served at this program has not come into contact with tree nuts\, soy or other allergens.
URL:https://themobmom.com/event/saturday-crafternoon-hearts-for-mom/
LOCATION:Mobile Public Library- Theodore Oaks Branch
END:VEVENT
END:VCALENDAR